BEGIN:VCALENDAR
VERSION:2.0
PRODID:-//Central Middle School - ECPv6.2.8.1//NONSGML v1.0//EN
CALSCALE:GREGORIAN
METHOD:PUBLISH
X-WR-CALNAME:Central Middle School
X-ORIGINAL-URL:https://central.sd61.bc.ca
X-WR-CALDESC:Events for Central Middle School
REFRESH-INTERVAL;VALUE=DURATION:PT1H
X-Robots-Tag:noindex
X-PUBLISHED-TTL:PT1H
BEGIN:VTIMEZONE
TZID:America/Vancouver
BEGIN:DAYLIGHT
TZOFFSETFROM:-0800
TZOFFSETTO:-0700
TZNAME:PDT
DTSTART:20170312T100000
END:DAYLIGHT
BEGIN:STANDARD
TZOFFSETFROM:-0700
TZOFFSETTO:-0800
TZNAME:PST
DTSTART:20171105T090000
END:STANDARD
END:VTIMEZONE
BEGIN:VEVENT
DTSTART;VALUE=DATE:20170102
DTEND;VALUE=DATE:20170103
DTSTAMP:20260420T104906
CREATED:20160602T200418Z
LAST-MODIFIED:20160602T200418Z
UID:4650-1483315200-1483401599@central.sd61.bc.ca
SUMMARY:Winter Break
DESCRIPTION:
URL:https://central.sd61.bc.ca/calendar-event/winter-break-23/
END:VEVENT
BEGIN:VEVENT
DTSTART;VALUE=DATE:20170103
DTEND;VALUE=DATE:20170104
DTSTAMP:20260420T104906
CREATED:20160602T201348Z
LAST-MODIFIED:20160602T201348Z
UID:4652-1483401600-1483487999@central.sd61.bc.ca
SUMMARY:School Reopens
DESCRIPTION:
URL:https://central.sd61.bc.ca/calendar-event/school-reopens-2/
END:VEVENT
BEGIN:VEVENT
DTSTART;VALUE=DATE:20170110
DTEND;VALUE=DATE:20170111
DTSTAMP:20260420T104906
CREATED:20160602T201413Z
LAST-MODIFIED:20160602T201413Z
UID:4653-1484006400-1484092799@central.sd61.bc.ca
SUMMARY:PAC Meeting 7pm
DESCRIPTION:
URL:https://central.sd61.bc.ca/calendar-event/pac-meeting-7pm-8/
END:VEVENT
BEGIN:VEVENT
DTSTART;TZID=America/Vancouver:20170110T150000
DTEND;TZID=America/Vancouver:20170110T180000
DTSTAMP:20260420T104906
CREATED:20161216T215133Z
LAST-MODIFIED:20161216T215133Z
UID:5251-1484060400-1484071200@central.sd61.bc.ca
SUMMARY:CENTRAL MIDDLE SCHOOL CARNAVAL DE QUEBEC - 3:00 - 6:00PM
DESCRIPTION:2016 Carnaval Central
URL:https://central.sd61.bc.ca/calendar-event/central-middle-school-carnaval-de-quebec-300-600pm/
END:VEVENT
BEGIN:VEVENT
DTSTART;TZID=America/Vancouver:20170117T183000
DTEND;TZID=America/Vancouver:20170117T193000
DTSTAMP:20260420T104906
CREATED:20161026T172309Z
LAST-MODIFIED:20170116T170141Z
UID:5021-1484677800-1484681400@central.sd61.bc.ca
SUMMARY:District French Immersion Information Evening
DESCRIPTION:
URL:https://central.sd61.bc.ca/calendar-event/french-immersion-information-evening/
LOCATION:SJ Willis Auditorium\, 923 Topaz Avenue\, Victoria
END:VEVENT
BEGIN:VEVENT
DTSTART;VALUE=DATE:20170119
DTEND;VALUE=DATE:20170120
DTSTAMP:20260420T104906
CREATED:20160602T201452Z
LAST-MODIFIED:20160602T201452Z
UID:4654-1484784000-1484870399@central.sd61.bc.ca
SUMMARY:Elementary School Tours - Band 8 and Adv. Strings
DESCRIPTION:
URL:https://central.sd61.bc.ca/calendar-event/elementary-school-tours-band-8-and-adv-strings/
END:VEVENT
BEGIN:VEVENT
DTSTART;VALUE=DATE:20170123
DTEND;VALUE=DATE:20170124
DTSTAMP:20260420T104906
CREATED:20160602T201602Z
LAST-MODIFIED:20160602T201602Z
UID:4656-1485129600-1485215999@central.sd61.bc.ca
SUMMARY:Grade 6 LFrim Registration Week
DESCRIPTION:
URL:https://central.sd61.bc.ca/calendar-event/grade-6-lfrim-registration-week/
END:VEVENT
BEGIN:VEVENT
DTSTART;TZID=America/Vancouver:20170124T183000
DTEND;TZID=America/Vancouver:20170124T200000
DTSTAMP:20260420T104906
CREATED:20170109T185313Z
LAST-MODIFIED:20170109T185639Z
UID:5289-1485282600-1485288000@central.sd61.bc.ca
SUMMARY:Parent Math Night! (see attached poster)
DESCRIPTION:Central Parent Math poster Jan.2017
URL:https://central.sd61.bc.ca/calendar-event/parent-math-night-see-attached-poster/
END:VEVENT
BEGIN:VEVENT
DTSTART;VALUE=DATE:20170127
DTEND;VALUE=DATE:20170128
DTSTAMP:20260420T104906
CREATED:20160602T201528Z
LAST-MODIFIED:20160602T201528Z
UID:4655-1485475200-1485561599@central.sd61.bc.ca
SUMMARY:Pro D Day - No School for Students
DESCRIPTION:
URL:https://central.sd61.bc.ca/calendar-event/pro-d-day-no-school-for-students-5/
END:VEVENT
BEGIN:VEVENT
DTSTART;TZID=America/Vancouver:20170201T090000
DTEND;TZID=America/Vancouver:20170201T100000
DTSTAMP:20260420T104906
CREATED:20170111T224619Z
LAST-MODIFIED:20170111T224619Z
UID:5314-1485939600-1485943200@central.sd61.bc.ca
SUMMARY:Grade 5 Exploratory Visit
DESCRIPTION:
URL:https://central.sd61.bc.ca/calendar-event/grade-5-exploratory-visit/
END:VEVENT
END:VCALENDAR