BEGIN:VCALENDAR
VERSION:2.0
PRODID:-//Central Middle School - ECPv6.2.8.1//NONSGML v1.0//EN
CALSCALE:GREGORIAN
METHOD:PUBLISH
X-WR-CALNAME:Central Middle School
X-ORIGINAL-URL:https://central.sd61.bc.ca
X-WR-CALDESC:Events for Central Middle School
REFRESH-INTERVAL;VALUE=DURATION:PT1H
X-Robots-Tag:noindex
X-PUBLISHED-TTL:PT1H
BEGIN:VTIMEZONE
TZID:America/Vancouver
BEGIN:DAYLIGHT
TZOFFSETFROM:-0800
TZOFFSETTO:-0700
TZNAME:PDT
DTSTART:20160313T100000
END:DAYLIGHT
BEGIN:STANDARD
TZOFFSETFROM:-0700
TZOFFSETTO:-0800
TZNAME:PST
DTSTART:20161106T090000
END:STANDARD
END:VTIMEZONE
BEGIN:VEVENT
DTSTART;VALUE=DATE:20161010
DTEND;VALUE=DATE:20161011
DTSTAMP:20260421T100635
CREATED:20160602T194322Z
LAST-MODIFIED:20160602T194322Z
UID:4619-1476057600-1476143999@central.sd61.bc.ca
SUMMARY:Thanksgiving (No School)
DESCRIPTION:
URL:https://central.sd61.bc.ca/calendar-event/thanksgiving-no-school-3/
END:VEVENT
BEGIN:VEVENT
DTSTART;VALUE=DATE:20161011
DTEND;VALUE=DATE:20161012
DTSTAMP:20260421T100635
CREATED:20160602T194411Z
LAST-MODIFIED:20160602T194411Z
UID:4620-1476144000-1476230399@central.sd61.bc.ca
SUMMARY:PAC Meeting 7pm
DESCRIPTION:
URL:https://central.sd61.bc.ca/calendar-event/pac-meeting-7pm-5/
END:VEVENT
BEGIN:VEVENT
DTSTART;VALUE=DATE:20161018
DTEND;VALUE=DATE:20161019
DTSTAMP:20260421T100635
CREATED:20160602T195230Z
LAST-MODIFIED:20160602T195230Z
UID:4630-1476748800-1476835199@central.sd61.bc.ca
SUMMARY:Photo Retakes
DESCRIPTION:
URL:https://central.sd61.bc.ca/calendar-event/photo-retakes-3/
END:VEVENT
BEGIN:VEVENT
DTSTART;VALUE=DATE:20161018
DTEND;VALUE=DATE:20161019
DTSTAMP:20260421T100635
CREATED:20160602T215446Z
LAST-MODIFIED:20161017T175958Z
UID:4691-1476748800-1476835199@central.sd61.bc.ca
SUMMARY:Parent Teacher Interviews - 2 - 5:30pm early dismissal - 11:55am
DESCRIPTION:
URL:https://central.sd61.bc.ca/calendar-event/parent-teacher-interviews-2-530-early-dismissal/
END:VEVENT
BEGIN:VEVENT
DTSTART;TZID=America/Vancouver:20161018T080000
DTEND;TZID=America/Vancouver:20161020T170000
DTSTAMP:20260421T100635
CREATED:20161003T172810Z
LAST-MODIFIED:20161003T172927Z
UID:4888-1476777600-1476982800@central.sd61.bc.ca
SUMMARY:Camp Pringle
DESCRIPTION:
URL:https://central.sd61.bc.ca/calendar-event/camp-pringle/
END:VEVENT
BEGIN:VEVENT
DTSTART;VALUE=DATE:20161019
DTEND;VALUE=DATE:20161020
DTSTAMP:20260421T100635
CREATED:20160602T194914Z
LAST-MODIFIED:20161017T175844Z
UID:4625-1476835200-1476921599@central.sd61.bc.ca
SUMMARY:Parent Teacher Interviews - 3 - 5pm; 6-8pm Early Dismissal - 11:55am
DESCRIPTION:
URL:https://central.sd61.bc.ca/calendar-event/parent-teacher-interviews-3-5pm-6-8pm-early-dismissal/
END:VEVENT
BEGIN:VEVENT
DTSTART;VALUE=DATE:20161020
DTEND;VALUE=DATE:20161021
DTSTAMP:20260421T100635
CREATED:20160602T194935Z
LAST-MODIFIED:20160602T194935Z
UID:4626-1476921600-1477007999@central.sd61.bc.ca
SUMMARY:WE Day
DESCRIPTION:
URL:https://central.sd61.bc.ca/calendar-event/we-day/
END:VEVENT
BEGIN:VEVENT
DTSTART;VALUE=DATE:20161021
DTEND;VALUE=DATE:20161022
DTSTAMP:20260421T100635
CREATED:20160602T195005Z
LAST-MODIFIED:20160602T214257Z
UID:4627-1477008000-1477094399@central.sd61.bc.ca
SUMMARY:Pro D Day - No School For Students (Province Wide)
DESCRIPTION:
URL:https://central.sd61.bc.ca/calendar-event/pro-d-day-no-school-for-students-3/
END:VEVENT
BEGIN:VEVENT
DTSTART;VALUE=DATE:20161026
DTEND;VALUE=DATE:20161027
DTSTAMP:20260421T100635
CREATED:20160602T195033Z
LAST-MODIFIED:20160602T195033Z
UID:4628-1477440000-1477526399@central.sd61.bc.ca
SUMMARY:Creepy Concert - 7pm
DESCRIPTION:
URL:https://central.sd61.bc.ca/calendar-event/creepy-concert-7pm/
END:VEVENT
BEGIN:VEVENT
DTSTART;VALUE=DATE:20161031
DTEND;VALUE=DATE:20161101
DTSTAMP:20260421T100635
CREATED:20160602T195120Z
LAST-MODIFIED:20161027T163015Z
UID:4629-1477872000-1477958399@central.sd61.bc.ca
SUMMARY:Halloween Dance - 1:00 to 2:45
DESCRIPTION:
URL:https://central.sd61.bc.ca/calendar-event/holloween-dance/
END:VEVENT
END:VCALENDAR