BEGIN:VCALENDAR
VERSION:2.0
PRODID:-//Central Middle School - ECPv6.2.8.1//NONSGML v1.0//EN
CALSCALE:GREGORIAN
METHOD:PUBLISH
X-ORIGINAL-URL:https://central.sd61.bc.ca
X-WR-CALDESC:Events for Central Middle School
REFRESH-INTERVAL;VALUE=DURATION:PT1H
X-Robots-Tag:noindex
X-PUBLISHED-TTL:PT1H
BEGIN:VTIMEZONE
TZID:America/Vancouver
BEGIN:DAYLIGHT
TZOFFSETFROM:-0800
TZOFFSETTO:-0700
TZNAME:PDT
DTSTART:20160313T100000
END:DAYLIGHT
BEGIN:STANDARD
TZOFFSETFROM:-0700
TZOFFSETTO:-0800
TZNAME:PST
DTSTART:20161106T090000
END:STANDARD
END:VTIMEZONE
BEGIN:VEVENT
DTSTART;TZID=America/Vancouver:20160906T090000
DTEND;TZID=America/Vancouver:20160906T113000
DTSTAMP:20260421T100855
CREATED:20160602T191355Z
LAST-MODIFIED:20160602T214001Z
UID:4596-1473152400-1473161400@central.sd61.bc.ca
SUMMARY:First Day Of School
DESCRIPTION:
URL:https://central.sd61.bc.ca/calendar-event/first-day-of-school/
END:VEVENT
BEGIN:VEVENT
DTSTART;TZID=America/Vancouver:20160913T180000
DTEND;TZID=America/Vancouver:20160913T190000
DTSTAMP:20260421T100855
CREATED:20160906T194826Z
LAST-MODIFIED:20160906T194826Z
UID:4759-1473789600-1473793200@central.sd61.bc.ca
SUMMARY:Meet the Teacher Night - 6pm
DESCRIPTION:
URL:https://central.sd61.bc.ca/calendar-event/meet-the-teacher-night-6pm/
END:VEVENT
BEGIN:VEVENT
DTSTART;VALUE=DATE:20160916
DTEND;VALUE=DATE:20160917
DTSTAMP:20260421T100855
CREATED:20160602T193626Z
LAST-MODIFIED:20160602T193626Z
UID:4609-1473984000-1474070399@central.sd61.bc.ca
SUMMARY:School photos
DESCRIPTION:
URL:https://central.sd61.bc.ca/calendar-event/school-photos-5/
END:VEVENT
BEGIN:VEVENT
DTSTART;VALUE=DATE:20160919
DTEND;VALUE=DATE:20160920
DTSTAMP:20260421T100855
CREATED:20160602T193736Z
LAST-MODIFIED:20160602T214125Z
UID:4611-1474243200-1474329599@central.sd61.bc.ca
SUMMARY:Pro D Day - No School For Students
DESCRIPTION:
URL:https://central.sd61.bc.ca/calendar-event/pro-d-day-no-school-for-students-2/
END:VEVENT
BEGIN:VEVENT
DTSTART;VALUE=DATE:20160920
DTEND;VALUE=DATE:20160921
DTSTAMP:20260421T100855
CREATED:20160602T193825Z
LAST-MODIFIED:20160602T193825Z
UID:4612-1474329600-1474415999@central.sd61.bc.ca
SUMMARY:New Music Parent meeting 7pm.  AGM 8pm
DESCRIPTION:
URL:https://central.sd61.bc.ca/calendar-event/new-music-parent-meeting-7pm-agm-8pm-2/
END:VEVENT
BEGIN:VEVENT
DTSTART;VALUE=DATE:20160921
DTEND;VALUE=DATE:20160922
DTSTAMP:20260421T100855
CREATED:20160602T193706Z
LAST-MODIFIED:20160602T193706Z
UID:4610-1474416000-1474502399@central.sd61.bc.ca
SUMMARY:Instrument rental
DESCRIPTION:
URL:https://central.sd61.bc.ca/calendar-event/instrument-rental-2/
END:VEVENT
BEGIN:VEVENT
DTSTART;VALUE=DATE:20160924
DTEND;VALUE=DATE:20160925
DTSTAMP:20260421T100855
CREATED:20160602T193850Z
LAST-MODIFIED:20160602T193850Z
UID:4613-1474675200-1474761599@central.sd61.bc.ca
SUMMARY:Super Saturday
DESCRIPTION:
URL:https://central.sd61.bc.ca/calendar-event/super-saturday/
END:VEVENT
BEGIN:VEVENT
DTSTART;VALUE=DATE:20160927
DTEND;VALUE=DATE:20160928
DTSTAMP:20260421T100855
CREATED:20160602T193916Z
LAST-MODIFIED:20160602T193916Z
UID:4614-1474934400-1475020799@central.sd61.bc.ca
SUMMARY:Bear Beach
DESCRIPTION:
URL:https://central.sd61.bc.ca/calendar-event/bear-beach-2/
END:VEVENT
BEGIN:VEVENT
DTSTART;TZID=America/Vancouver:20160927T190000
DTEND;TZID=America/Vancouver:20160927T200000
DTSTAMP:20260421T100855
CREATED:20160906T202929Z
LAST-MODIFIED:20160906T202929Z
UID:4763-1475002800-1475006400@central.sd61.bc.ca
SUMMARY:PAC Meeting - 7pm
DESCRIPTION:
URL:https://central.sd61.bc.ca/calendar-event/pac-meeting-7pm-14/
END:VEVENT
BEGIN:VEVENT
DTSTART;VALUE=DATE:20160928
DTEND;VALUE=DATE:20160929
DTSTAMP:20260421T100855
CREATED:20160602T194001Z
LAST-MODIFIED:20160602T194001Z
UID:4616-1475020800-1475107199@central.sd61.bc.ca
SUMMARY:Bear Beach
DESCRIPTION:
URL:https://central.sd61.bc.ca/calendar-event/bear-beach-4/
END:VEVENT
BEGIN:VEVENT
DTSTART;VALUE=DATE:20160929
DTEND;VALUE=DATE:20160930
DTSTAMP:20260421T100855
CREATED:20160602T194017Z
LAST-MODIFIED:20160602T194017Z
UID:4617-1475107200-1475193599@central.sd61.bc.ca
SUMMARY:Bear Beach
DESCRIPTION:
URL:https://central.sd61.bc.ca/calendar-event/bear-beach-5/
END:VEVENT
BEGIN:VEVENT
DTSTART;VALUE=DATE:20160930
DTEND;VALUE=DATE:20161001
DTSTAMP:20260421T100855
CREATED:20160602T194046Z
LAST-MODIFIED:20160602T194046Z
UID:4618-1475193600-1475279999@central.sd61.bc.ca
SUMMARY:Bear Beach
DESCRIPTION:
URL:https://central.sd61.bc.ca/calendar-event/bear-beach-6/
END:VEVENT
END:VCALENDAR