BEGIN:VCALENDAR
VERSION:2.0
PRODID:-//Central Middle School - ECPv6.2.8.1//NONSGML v1.0//EN
CALSCALE:GREGORIAN
METHOD:PUBLISH
X-WR-CALNAME:Central Middle School
X-ORIGINAL-URL:https://central.sd61.bc.ca
X-WR-CALDESC:Events for Central Middle School
REFRESH-INTERVAL;VALUE=DURATION:PT1H
X-Robots-Tag:noindex
X-PUBLISHED-TTL:PT1H
BEGIN:VTIMEZONE
TZID:America/Vancouver
BEGIN:DAYLIGHT
TZOFFSETFROM:-0800
TZOFFSETTO:-0700
TZNAME:PDT
DTSTART:20150308T100000
END:DAYLIGHT
BEGIN:STANDARD
TZOFFSETFROM:-0700
TZOFFSETTO:-0800
TZNAME:PST
DTSTART:20151101T090000
END:STANDARD
BEGIN:DAYLIGHT
TZOFFSETFROM:-0800
TZOFFSETTO:-0700
TZNAME:PDT
DTSTART:20160313T100000
END:DAYLIGHT
BEGIN:STANDARD
TZOFFSETFROM:-0700
TZOFFSETTO:-0800
TZNAME:PST
DTSTART:20161106T090000
END:STANDARD
END:VTIMEZONE
BEGIN:VEVENT
DTSTART;TZID=America/Vancouver:20151219T080000
DTEND;TZID=America/Vancouver:20160101T170000
DTSTAMP:20260423T063907
CREATED:20150703T184040Z
LAST-MODIFIED:20150703T184040Z
UID:3519-1450512000-1451667600@central.sd61.bc.ca
SUMMARY:Winter Break
DESCRIPTION:
URL:https://central.sd61.bc.ca/calendar-event/winter-break-12/
END:VEVENT
BEGIN:VEVENT
DTSTART;TZID=America/Vancouver:20160102T090000
DTEND;TZID=America/Vancouver:20160103T160000
DTSTAMP:20260423T063907
CREATED:20151218T230001Z
LAST-MODIFIED:20151218T230001Z
UID:3940-1451725200-1451836800@central.sd61.bc.ca
SUMMARY:Tree Chipping 9am - 4pm
DESCRIPTION:
URL:https://central.sd61.bc.ca/calendar-event/tree-chipping-9am-4pm/
END:VEVENT
BEGIN:VEVENT
DTSTART;VALUE=DATE:20160104
DTEND;VALUE=DATE:20160105
DTSTAMP:20260423T063907
CREATED:20150703T192505Z
LAST-MODIFIED:20150924T181422Z
UID:3520-1451865600-1451951999@central.sd61.bc.ca
SUMMARY:First day after winter break
DESCRIPTION:
URL:https://central.sd61.bc.ca/calendar-event/first-day-after-winter-break/
END:VEVENT
BEGIN:VEVENT
DTSTART;VALUE=DATE:20160111
DTEND;VALUE=DATE:20160112
DTSTAMP:20260423T063907
CREATED:20151120T172003Z
LAST-MODIFIED:20151120T172204Z
UID:3872-1452470400-1452556799@central.sd61.bc.ca
SUMMARY:Curriculum Implementation Day - no school for students
DESCRIPTION:
URL:https://central.sd61.bc.ca/calendar-event/curriculum-implementation-day-2/
END:VEVENT
BEGIN:VEVENT
DTSTART;TZID=America/Vancouver:20160112T190000
DTEND;TZID=America/Vancouver:20160112T210000
DTSTAMP:20260423T063907
CREATED:20150703T192609Z
LAST-MODIFIED:20150703T192609Z
UID:3521-1452625200-1452632400@central.sd61.bc.ca
SUMMARY:PAC Meeting
DESCRIPTION:
URL:https://central.sd61.bc.ca/calendar-event/pac-meeting-14/
END:VEVENT
BEGIN:VEVENT
DTSTART;VALUE=DATE:20160114
DTEND;VALUE=DATE:20160115
DTSTAMP:20260423T063907
CREATED:20150703T192946Z
LAST-MODIFIED:20150924T181458Z
UID:3522-1452729600-1452815999@central.sd61.bc.ca
SUMMARY:Elementary School Tours - Band 8 & Adv.Strings
DESCRIPTION:
URL:https://central.sd61.bc.ca/calendar-event/elementary-school-tours-band-8-adv-strings/
END:VEVENT
BEGIN:VEVENT
DTSTART;TZID=America/Vancouver:20160119T183000
DTEND;TZID=America/Vancouver:20160119T200000
DTSTAMP:20260423T063907
CREATED:20151203T230516Z
LAST-MODIFIED:20151203T230650Z
UID:3912-1453228200-1453233600@central.sd61.bc.ca
SUMMARY:French Immersion Info Night - SJ Willis 6:30-8pm
DESCRIPTION:
URL:https://central.sd61.bc.ca/calendar-event/french-immersion-info-night-sj-willis-630-8pm/
END:VEVENT
BEGIN:VEVENT
DTSTART;VALUE=DATE:20160122
DTEND;VALUE=DATE:20160123
DTSTAMP:20260423T063907
CREATED:20150703T193300Z
LAST-MODIFIED:20150924T181613Z
UID:3523-1453420800-1453507199@central.sd61.bc.ca
SUMMARY:Pro-D Day - No School for Students
DESCRIPTION:
URL:https://central.sd61.bc.ca/calendar-event/pro-d-day-5/
END:VEVENT
BEGIN:VEVENT
DTSTART;VALUE=DATE:20160201
DTEND;VALUE=DATE:20160202
DTSTAMP:20260423T063907
CREATED:20150703T193350Z
LAST-MODIFIED:20150924T181654Z
UID:3524-1454284800-1454371199@central.sd61.bc.ca
SUMMARY:Newsletter
DESCRIPTION:
URL:https://central.sd61.bc.ca/calendar-event/newsletter-21/
END:VEVENT
END:VCALENDAR