BEGIN:VCALENDAR
VERSION:2.0
PRODID:-//Central Middle School - ECPv6.2.8.1//NONSGML v1.0//EN
CALSCALE:GREGORIAN
METHOD:PUBLISH
X-WR-CALNAME:Central Middle School
X-ORIGINAL-URL:https://central.sd61.bc.ca
X-WR-CALDESC:Events for Central Middle School
REFRESH-INTERVAL;VALUE=DURATION:PT1H
X-Robots-Tag:noindex
X-PUBLISHED-TTL:PT1H
BEGIN:VTIMEZONE
TZID:America/Vancouver
BEGIN:DAYLIGHT
TZOFFSETFROM:-0800
TZOFFSETTO:-0700
TZNAME:PDT
DTSTART:20150308T100000
END:DAYLIGHT
BEGIN:STANDARD
TZOFFSETFROM:-0700
TZOFFSETTO:-0800
TZNAME:PST
DTSTART:20151101T090000
END:STANDARD
END:VTIMEZONE
BEGIN:VEVENT
DTSTART;TZID=America/Vancouver:20150908T093000
DTEND;TZID=America/Vancouver:20150908T233000
DTSTAMP:20260423T181210
CREATED:20150703T164803Z
LAST-MODIFIED:20150703T164803Z
UID:3483-1441704600-1441755000@central.sd61.bc.ca
SUMMARY:School Opens 9:30
DESCRIPTION:
URL:https://central.sd61.bc.ca/calendar-event/school-opens-930/
END:VEVENT
BEGIN:VEVENT
DTSTART;VALUE=DATE:20150910
DTEND;VALUE=DATE:20150911
DTSTAMP:20260423T181210
CREATED:20150703T164845Z
LAST-MODIFIED:20150924T173504Z
UID:3484-1441843200-1441929599@central.sd61.bc.ca
SUMMARY:Newsletter
DESCRIPTION:
URL:https://central.sd61.bc.ca/calendar-event/newsletter-18/
END:VEVENT
BEGIN:VEVENT
DTSTART;TZID=America/Vancouver:20150915T190000
DTEND;TZID=America/Vancouver:20150915T210000
DTSTAMP:20260423T181210
CREATED:20150703T170833Z
LAST-MODIFIED:20150703T170833Z
UID:3485-1442343600-1442350800@central.sd61.bc.ca
SUMMARY:PAC Meeting
DESCRIPTION:
URL:https://central.sd61.bc.ca/calendar-event/pac-meeting-4/
END:VEVENT
BEGIN:VEVENT
DTSTART;TZID=America/Vancouver:20150917T190000
DTEND;TZID=America/Vancouver:20150917T200000
DTSTAMP:20260423T181210
CREATED:20150914T212838Z
LAST-MODIFIED:20150914T212938Z
UID:3630-1442516400-1442520000@central.sd61.bc.ca
SUMMARY:Grade 8 Frim meeting  7:00p.m. in Cafeteria
DESCRIPTION:
URL:https://central.sd61.bc.ca/calendar-event/grade-8-frim-meeting-700p-m-in-cafeteria/
END:VEVENT
BEGIN:VEVENT
DTSTART;VALUE=DATE:20150918
DTEND;VALUE=DATE:20150919
DTSTAMP:20260423T181210
CREATED:20150703T170900Z
LAST-MODIFIED:20150703T170900Z
UID:3486-1442534400-1442620799@central.sd61.bc.ca
SUMMARY:School Photos
DESCRIPTION:
URL:https://central.sd61.bc.ca/calendar-event/school-photos-2/
END:VEVENT
BEGIN:VEVENT
DTSTART;VALUE=DATE:20150918
DTEND;VALUE=DATE:20150919
DTSTAMP:20260423T181210
CREATED:20150703T170928Z
LAST-MODIFIED:20150924T184053Z
UID:3487-1442534400-1442620799@central.sd61.bc.ca
SUMMARY:BC Transit Youth Pass Photos
DESCRIPTION:
URL:https://central.sd61.bc.ca/calendar-event/bc-transit-youth-pass-photos/
END:VEVENT
BEGIN:VEVENT
DTSTART;TZID=America/Vancouver:20150921T080000
DTEND;TZID=America/Vancouver:20150921T170000
DTSTAMP:20260423T181210
CREATED:20150703T170955Z
LAST-MODIFIED:20150703T170955Z
UID:3488-1442822400-1442854800@central.sd61.bc.ca
SUMMARY:Pro-D Day
DESCRIPTION:
URL:https://central.sd61.bc.ca/calendar-event/pro-d-day-3/
END:VEVENT
BEGIN:VEVENT
DTSTART;TZID=America/Vancouver:20150922T190000
DTEND;TZID=America/Vancouver:20150922T210000
DTSTAMP:20260423T181210
CREATED:20150703T171027Z
LAST-MODIFIED:20150703T171027Z
UID:3489-1442948400-1442955600@central.sd61.bc.ca
SUMMARY:New Music Parent Meeting & AGM
DESCRIPTION:
URL:https://central.sd61.bc.ca/calendar-event/new-music-parent-meeting-agm/
END:VEVENT
BEGIN:VEVENT
DTSTART;VALUE=DATE:20150923
DTEND;VALUE=DATE:20150924
DTSTAMP:20260423T181210
CREATED:20150703T171044Z
LAST-MODIFIED:20150924T184216Z
UID:3490-1442966400-1443052799@central.sd61.bc.ca
SUMMARY:Instrument Rental Evening
DESCRIPTION:
URL:https://central.sd61.bc.ca/calendar-event/instrument-rental-evening/
END:VEVENT
BEGIN:VEVENT
DTSTART;TZID=America/Vancouver:20150924T180000
DTEND;TZID=America/Vancouver:20150924T190000
DTSTAMP:20260423T181210
CREATED:20150914T180157Z
LAST-MODIFIED:20150921T211253Z
UID:3629-1443117600-1443121200@central.sd61.bc.ca
SUMMARY:Welcome Back Meet the Teacher Night - Pizza and Refreshments
DESCRIPTION:Come join us from 6:00 – 7:00 pm for pizza and refreshments. A great opportunity to meet and welcome new and returning families to our Central Middle School community. Avoid the dinner rush by eating with us starting at 6;00pm and then head to your child’s classroom at 6:30pm for a quick visit with the teacher.  Your child will then lead you on a tour of the school.  Pizza will be available for a suggested donation of $2.50 per slice.
URL:https://central.sd61.bc.ca/calendar-event/welcome-back-bbq-meet-the-teacher-night/
END:VEVENT
BEGIN:VEVENT
DTSTART;TZID=America/Vancouver:20150926T080000
DTEND;TZID=America/Vancouver:20150926T170000
DTSTAMP:20260423T181210
CREATED:20150703T171128Z
LAST-MODIFIED:20150703T171129Z
UID:3492-1443254400-1443286800@central.sd61.bc.ca
SUMMARY:Super Saturday
DESCRIPTION:
URL:https://central.sd61.bc.ca/calendar-event/super-saturday-2/
END:VEVENT
BEGIN:VEVENT
DTSTART;TZID=America/Vancouver:20150929T083000
DTEND;TZID=America/Vancouver:20151002T144500
DTSTAMP:20260423T181210
CREATED:20150703T171210Z
LAST-MODIFIED:20150703T174548Z
UID:3493-1443515400-1443797100@central.sd61.bc.ca
SUMMARY:Bear Beach
DESCRIPTION:
URL:https://central.sd61.bc.ca/calendar-event/bear-beach/
END:VEVENT
END:VCALENDAR