BEGIN:VCALENDAR
VERSION:2.0
PRODID:-//Central Middle School - ECPv6.2.8.1//NONSGML v1.0//EN
CALSCALE:GREGORIAN
METHOD:PUBLISH
X-WR-CALNAME:Central Middle School
X-ORIGINAL-URL:https://central.sd61.bc.ca
X-WR-CALDESC:Events for Central Middle School
REFRESH-INTERVAL;VALUE=DURATION:PT1H
X-Robots-Tag:noindex
X-PUBLISHED-TTL:PT1H
BEGIN:VTIMEZONE
TZID:America/Vancouver
BEGIN:DAYLIGHT
TZOFFSETFROM:-0800
TZOFFSETTO:-0700
TZNAME:PDT
DTSTART:20150308T100000
END:DAYLIGHT
BEGIN:STANDARD
TZOFFSETFROM:-0700
TZOFFSETTO:-0800
TZNAME:PST
DTSTART:20151101T090000
END:STANDARD
END:VTIMEZONE
BEGIN:VEVENT
DTSTART;VALUE=DATE:20150202
DTEND;VALUE=DATE:20150203
DTSTAMP:20260425T135620
CREATED:20140522T170825Z
LAST-MODIFIED:20140522T170825Z
UID:2401-1422835200-1422921599@central.sd61.bc.ca
SUMMARY:Newsletter
DESCRIPTION:
URL:https://central.sd61.bc.ca/calendar-event/newsletter-14/
END:VEVENT
BEGIN:VEVENT
DTSTART;VALUE=DATE:20150203
DTEND;VALUE=DATE:20150204
DTSTAMP:20260425T135620
CREATED:20140508T172951Z
LAST-MODIFIED:20140508T172951Z
UID:2298-1422921600-1423007999@central.sd61.bc.ca
SUMMARY:Middle School Information Night
DESCRIPTION:
URL:https://central.sd61.bc.ca/calendar-event/middle-school-information-night/
END:VEVENT
BEGIN:VEVENT
DTSTART;VALUE=DATE:20150204
DTEND;VALUE=DATE:20150205
DTSTAMP:20260425T135620
CREATED:20140522T170936Z
LAST-MODIFIED:20140522T170936Z
UID:2403-1423008000-1423094399@central.sd61.bc.ca
SUMMARY:Music and Desserts
DESCRIPTION:
URL:https://central.sd61.bc.ca/calendar-event/music-and-desserts/
END:VEVENT
BEGIN:VEVENT
DTSTART;TZID=America/Vancouver:20150206T080000
DTEND;TZID=America/Vancouver:20150206T170000
DTSTAMP:20260425T135620
CREATED:20150119T224417Z
LAST-MODIFIED:20150119T224417Z
UID:2934-1423209600-1423242000@central.sd61.bc.ca
SUMMARY:Curriculum Completion Day
DESCRIPTION:
URL:https://central.sd61.bc.ca/calendar-event/curriculum-completion-day/
END:VEVENT
BEGIN:VEVENT
DTSTART;VALUE=DATE:20150209
DTEND;VALUE=DATE:20150210
DTSTAMP:20260425T135620
CREATED:20140522T171044Z
LAST-MODIFIED:20140522T172223Z
UID:2405-1423440000-1423526399@central.sd61.bc.ca
SUMMARY:BC Family Day           (no school)
DESCRIPTION:
URL:https://central.sd61.bc.ca/calendar-event/bc-family-day-no-school-2/
END:VEVENT
BEGIN:VEVENT
DTSTART;VALUE=DATE:20150210
DTEND;VALUE=DATE:20150211
DTSTAMP:20260425T135620
CREATED:20140522T171112Z
LAST-MODIFIED:20140522T171112Z
UID:2406-1423526400-1423612799@central.sd61.bc.ca
SUMMARY:PAC Meeting
DESCRIPTION:
URL:https://central.sd61.bc.ca/calendar-event/pac-meeting-8/
END:VEVENT
BEGIN:VEVENT
DTSTART;VALUE=DATE:20150217
DTEND;VALUE=DATE:20150218
DTSTAMP:20260425T135620
CREATED:20140522T171604Z
LAST-MODIFIED:20140522T171604Z
UID:2409-1424131200-1424217599@central.sd61.bc.ca
SUMMARY:Science Fair
DESCRIPTION:
URL:https://central.sd61.bc.ca/calendar-event/science-fair-3/
END:VEVENT
BEGIN:VEVENT
DTSTART;VALUE=DATE:20150218
DTEND;VALUE=DATE:20150219
DTSTAMP:20260425T135620
CREATED:20140522T171531Z
LAST-MODIFIED:20140522T171531Z
UID:2408-1424217600-1424303999@central.sd61.bc.ca
SUMMARY:Science Fair
DESCRIPTION:
URL:https://central.sd61.bc.ca/calendar-event/science-fair-2/
END:VEVENT
BEGIN:VEVENT
DTSTART;VALUE=DATE:20150219
DTEND;VALUE=DATE:20150220
DTSTAMP:20260425T135620
CREATED:20140522T172039Z
LAST-MODIFIED:20140522T172039Z
UID:2411-1424304000-1424390399@central.sd61.bc.ca
SUMMARY:Science Fair
DESCRIPTION:
URL:https://central.sd61.bc.ca/calendar-event/science-fair-5/
END:VEVENT
BEGIN:VEVENT
DTSTART;VALUE=DATE:20150220
DTEND;VALUE=DATE:20150221
DTSTAMP:20260425T135620
CREATED:20140522T172107Z
LAST-MODIFIED:20140522T172107Z
UID:2412-1424390400-1424476799@central.sd61.bc.ca
SUMMARY:Pro-D
DESCRIPTION:
URL:https://central.sd61.bc.ca/calendar-event/pro-d-2/
END:VEVENT
END:VCALENDAR