BEGIN:VCALENDAR
VERSION:2.0
PRODID:-//Central Middle School - ECPv6.2.8.1//NONSGML v1.0//EN
CALSCALE:GREGORIAN
METHOD:PUBLISH
X-ORIGINAL-URL:https://central.sd61.bc.ca
X-WR-CALDESC:Events for Central Middle School
REFRESH-INTERVAL;VALUE=DURATION:PT1H
X-Robots-Tag:noindex
X-PUBLISHED-TTL:PT1H
BEGIN:VTIMEZONE
TZID:America/Vancouver
BEGIN:DAYLIGHT
TZOFFSETFROM:-0800
TZOFFSETTO:-0700
TZNAME:PDT
DTSTART:20150308T100000
END:DAYLIGHT
BEGIN:STANDARD
TZOFFSETFROM:-0700
TZOFFSETTO:-0800
TZNAME:PST
DTSTART:20151101T090000
END:STANDARD
END:VTIMEZONE
BEGIN:VEVENT
DTSTART;VALUE=DATE:20150101
DTEND;VALUE=DATE:20150102
DTSTAMP:20260425T181837
CREATED:20140522T170034Z
LAST-MODIFIED:20140522T170034Z
UID:2396-1420070400-1420156799@central.sd61.bc.ca
SUMMARY:Winter Break
DESCRIPTION:
URL:https://central.sd61.bc.ca/calendar-event/winter-break-10/
END:VEVENT
BEGIN:VEVENT
DTSTART;VALUE=DATE:20150102
DTEND;VALUE=DATE:20150103
DTSTAMP:20260425T181837
CREATED:20140522T170059Z
LAST-MODIFIED:20140522T170059Z
UID:2397-1420156800-1420243199@central.sd61.bc.ca
SUMMARY:Winter Break
DESCRIPTION:
URL:https://central.sd61.bc.ca/calendar-event/winter-break-11/
END:VEVENT
BEGIN:VEVENT
DTSTART;VALUE=DATE:20150105
DTEND;VALUE=DATE:20150106
DTSTAMP:20260425T181837
CREATED:20140522T175218Z
LAST-MODIFIED:20140522T175218Z
UID:2438-1420416000-1420502399@central.sd61.bc.ca
SUMMARY:School reopens after Winter Break   Newsletter
DESCRIPTION:
URL:https://central.sd61.bc.ca/calendar-event/school-reopens-after-winter-break-newsletter/
END:VEVENT
BEGIN:VEVENT
DTSTART;VALUE=DATE:20150113
DTEND;VALUE=DATE:20150114
DTSTAMP:20260425T181837
CREATED:20140522T170419Z
LAST-MODIFIED:20140522T170419Z
UID:2399-1421107200-1421193599@central.sd61.bc.ca
SUMMARY:PAC Meeting
DESCRIPTION:
URL:https://central.sd61.bc.ca/calendar-event/pac-meeting-7/
END:VEVENT
BEGIN:VEVENT
DTSTART;TZID=America/Vancouver:20150120T183000
DTEND;TZID=America/Vancouver:20150120T200000
DTSTAMP:20260425T181837
CREATED:20141201T193439Z
LAST-MODIFIED:20141201T193439Z
UID:2813-1421778600-1421784000@central.sd61.bc.ca
SUMMARY:Late French Immersion Information Night
DESCRIPTION:
URL:https://central.sd61.bc.ca/calendar-event/late-french-immersion-information-night/
LOCATION:SJ Willis Auditorium\, 923 Topaz Avenue\, Victoria
END:VEVENT
BEGIN:VEVENT
DTSTART;VALUE=DATE:20150123
DTEND;VALUE=DATE:20150124
DTSTAMP:20260425T181837
CREATED:20140522T170517Z
LAST-MODIFIED:20140522T170701Z
UID:2400-1421971200-1422057599@central.sd61.bc.ca
SUMMARY:Pro-Day                School Based
DESCRIPTION:
URL:https://central.sd61.bc.ca/calendar-event/pro-day-school-based/
END:VEVENT
BEGIN:VEVENT
DTSTART;VALUE=DATE:20150126
DTEND;VALUE=DATE:20150131
DTSTAMP:20260425T181837
CREATED:20141202T230054Z
LAST-MODIFIED:20141202T230054Z
UID:2816-1422230400-1422662399@central.sd61.bc.ca
SUMMARY:Late French Immersion Registration Week
DESCRIPTION:
URL:https://central.sd61.bc.ca/calendar-event/late-french-immersion-registration-week/
END:VEVENT
END:VCALENDAR