BEGIN:VCALENDAR
VERSION:2.0
PRODID:-//Central Middle School - ECPv6.2.8.1//NONSGML v1.0//EN
CALSCALE:GREGORIAN
METHOD:PUBLISH
X-WR-CALNAME:Central Middle School
X-ORIGINAL-URL:https://central.sd61.bc.ca
X-WR-CALDESC:Events for Central Middle School
REFRESH-INTERVAL;VALUE=DURATION:PT1H
X-Robots-Tag:noindex
X-PUBLISHED-TTL:PT1H
BEGIN:VTIMEZONE
TZID:America/Vancouver
BEGIN:DAYLIGHT
TZOFFSETFROM:-0800
TZOFFSETTO:-0700
TZNAME:PDT
DTSTART:20150308T100000
END:DAYLIGHT
BEGIN:STANDARD
TZOFFSETFROM:-0700
TZOFFSETTO:-0800
TZNAME:PST
DTSTART:20151101T090000
END:STANDARD
END:VTIMEZONE
BEGIN:VEVENT
DTSTART;VALUE=DATE:20150625
DTEND;VALUE=DATE:20150626
DTSTAMP:20260425T051003
CREATED:20140522T174610Z
LAST-MODIFIED:20150513T213029Z
UID:2435-1435190400-1435276799@central.sd61.bc.ca
SUMMARY:Last day of school for students         Reports Home
DESCRIPTION:
URL:https://central.sd61.bc.ca/calendar-event/last-day-of-school-for-students-reports-home/
END:VEVENT
BEGIN:VEVENT
DTSTART;TZID=America/Vancouver:20150619T104500
DTEND;TZID=America/Vancouver:20150619T233000
DTSTAMP:20260425T051003
CREATED:20150513T201820Z
LAST-MODIFIED:20150619T145623Z
UID:3270-1434710700-1434756600@central.sd61.bc.ca
SUMMARY:Grade 8 Leaving Ceremony
DESCRIPTION:BBQ Lunch and Dance for students after ceremony
URL:https://central.sd61.bc.ca/calendar-event/grade-8-leaving-ceremony/
END:VEVENT
BEGIN:VEVENT
DTSTART;TZID=America/Vancouver:20150611T190000
DTEND;TZID=America/Vancouver:20150611T210000
DTSTAMP:20260425T051003
CREATED:20150513T200651Z
LAST-MODIFIED:20150513T213648Z
UID:3268-1434049200-1434056400@central.sd61.bc.ca
SUMMARY:School Musical/Play
DESCRIPTION:Adults $10.00  Students $5.00  Pre-sale and at the door.
URL:https://central.sd61.bc.ca/calendar-event/school-musicalplay-2/
END:VEVENT
BEGIN:VEVENT
DTSTART;TZID=America/Vancouver:20150610T190000
DTEND;TZID=America/Vancouver:20150610T210000
DTSTAMP:20260425T051003
CREATED:20150513T200504Z
LAST-MODIFIED:20150513T213743Z
UID:3267-1433962800-1433970000@central.sd61.bc.ca
SUMMARY:School Musical/Play
DESCRIPTION:Adults $10.00  Students $5.00  Pre-sale and at the door. \n 
URL:https://central.sd61.bc.ca/calendar-event/school-musicalplay/
END:VEVENT
BEGIN:VEVENT
DTSTART;TZID=America/Vancouver:20150608T124500
DTEND;TZID=America/Vancouver:20150608T143000
DTSTAMP:20260425T051003
CREATED:20150525T173010Z
LAST-MODIFIED:20150525T173010Z
UID:3325-1433767500-1433773800@central.sd61.bc.ca
SUMMARY:"The World in Our School:  A Celebration of Ancestries"
DESCRIPTION:
URL:https://central.sd61.bc.ca/calendar-event/the-world-in-our-school-a-celebration-of-ancestries/
END:VEVENT
BEGIN:VEVENT
DTSTART;TZID=America/Vancouver:20150604T160000
DTEND;TZID=America/Vancouver:20150604T190000
DTSTAMP:20260425T051003
CREATED:20150511T172334Z
LAST-MODIFIED:20150604T151504Z
UID:3245-1433433600-1433444400@central.sd61.bc.ca
SUMMARY:Central Spring Fair
DESCRIPTION:  \nGames\, bouncy castle\, food\, candy floss\, VicHigh Jazz Band\, Raffle Baskets and more!
URL:https://central.sd61.bc.ca/calendar-event/central-spring-fair/
END:VEVENT
BEGIN:VEVENT
DTSTART;TZID=America/Vancouver:20150603T190000
DTEND;TZID=America/Vancouver:20150603T210000
DTSTAMP:20260425T051003
CREATED:20150513T201441Z
LAST-MODIFIED:20150513T201441Z
UID:3269-1433358000-1433365200@central.sd61.bc.ca
SUMMARY:Year End Concert
DESCRIPTION:
URL:https://central.sd61.bc.ca/calendar-event/year-end-concert/
END:VEVENT
BEGIN:VEVENT
DTSTART;VALUE=DATE:20150601
DTEND;VALUE=DATE:20150602
DTSTAMP:20260425T051003
CREATED:20140522T174517Z
LAST-MODIFIED:20140522T174517Z
UID:2434-1433116800-1433203199@central.sd61.bc.ca
SUMMARY:Newsletter
DESCRIPTION:
URL:https://central.sd61.bc.ca/calendar-event/newsletter-17/
END:VEVENT
BEGIN:VEVENT
DTSTART;VALUE=DATE:20150529
DTEND;VALUE=DATE:20150530
DTSTAMP:20260425T051003
CREATED:20140522T174330Z
LAST-MODIFIED:20140522T174330Z
UID:2433-1432857600-1432943999@central.sd61.bc.ca
SUMMARY:CC Day
DESCRIPTION:
URL:https://central.sd61.bc.ca/calendar-event/cc-day-4/
END:VEVENT
BEGIN:VEVENT
DTSTART;VALUE=DATE:20150519
DTEND;VALUE=DATE:20150520
DTSTAMP:20260425T051003
CREATED:20140522T174304Z
LAST-MODIFIED:20140522T174438Z
UID:2432-1431993600-1432079999@central.sd61.bc.ca
SUMMARY:Pro D (no school)
DESCRIPTION:
URL:https://central.sd61.bc.ca/calendar-event/pro-d-3/
END:VEVENT
BEGIN:VEVENT
DTSTART;VALUE=DATE:20150518
DTEND;VALUE=DATE:20150519
DTSTAMP:20260425T051003
CREATED:20140522T174232Z
LAST-MODIFIED:20150511T212258Z
UID:2431-1431907200-1431993599@central.sd61.bc.ca
SUMMARY:Victoria Day     (no school)
DESCRIPTION:
URL:https://central.sd61.bc.ca/calendar-event/victoria-day-no-school/
END:VEVENT
BEGIN:VEVENT
DTSTART;VALUE=DATE:20150515
DTEND;VALUE=DATE:20150516
DTSTAMP:20260425T051003
CREATED:20150511T212149Z
LAST-MODIFIED:20150511T212215Z
UID:3257-1431648000-1431734399@central.sd61.bc.ca
SUMMARY:Grade 6 Band to Oak Bay Bandfest (PM)
DESCRIPTION:
URL:https://central.sd61.bc.ca/calendar-event/grde-6-band-to-oak-bay-bandfest-pm/
END:VEVENT
BEGIN:VEVENT
DTSTART;VALUE=DATE:20150514
DTEND;VALUE=DATE:20150515
DTSTAMP:20260425T051003
CREATED:20150511T211331Z
LAST-MODIFIED:20150511T211904Z
UID:3255-1431561600-1431647999@central.sd61.bc.ca
SUMMARY:Transition Day (PM)
DESCRIPTION:
URL:https://central.sd61.bc.ca/calendar-event/transition-day-pm/
END:VEVENT
BEGIN:VEVENT
DTSTART;VALUE=DATE:20150512
DTEND;VALUE=DATE:20150513
DTSTAMP:20260425T051003
CREATED:20140522T174151Z
LAST-MODIFIED:20140522T174151Z
UID:2430-1431388800-1431475199@central.sd61.bc.ca
SUMMARY:PAC Meeting
DESCRIPTION:
URL:https://central.sd61.bc.ca/calendar-event/pac-meeting-10/
END:VEVENT
BEGIN:VEVENT
DTSTART;TZID=America/Vancouver:20150511T080000
DTEND;TZID=America/Vancouver:20150511T170000
DTSTAMP:20260425T051003
CREATED:20150413T215805Z
LAST-MODIFIED:20150413T215805Z
UID:3128-1431331200-1431363600@central.sd61.bc.ca
SUMMARY:Whole School Photo
DESCRIPTION:
URL:https://central.sd61.bc.ca/calendar-event/whole-school-photo-3/
END:VEVENT
BEGIN:VEVENT
DTSTART;VALUE=DATE:20150504
DTEND;VALUE=DATE:20150505
DTSTAMP:20260425T051003
CREATED:20140522T174108Z
LAST-MODIFIED:20140522T174108Z
UID:2429-1430697600-1430783999@central.sd61.bc.ca
SUMMARY:Newsletter
DESCRIPTION:
URL:https://central.sd61.bc.ca/calendar-event/newsletter-16/
END:VEVENT
BEGIN:VEVENT
DTSTART;TZID=America/Vancouver:20150502T080000
DTEND;TZID=America/Vancouver:20150502T130000
DTSTAMP:20260425T051003
CREATED:20150423T223002Z
LAST-MODIFIED:20150427T171103Z
UID:3167-1430553600-1430571600@central.sd61.bc.ca
SUMMARY:Rotary Garage Sale
DESCRIPTION:
URL:https://central.sd61.bc.ca/calendar-event/rotary-garage-sale-2/
END:VEVENT
BEGIN:VEVENT
DTSTART;TZID=America/Vancouver:20150429T080000
DTEND;TZID=America/Vancouver:20150502T170000
DTSTAMP:20260425T051003
CREATED:20141031T145723Z
LAST-MODIFIED:20141031T145723Z
UID:2682-1430294400-1430586000@central.sd61.bc.ca
SUMMARY:Seattle Band Trip
DESCRIPTION:
URL:https://central.sd61.bc.ca/calendar-event/seattle-band-trip/
END:VEVENT
BEGIN:VEVENT
DTSTART;TZID=America/Vancouver:20150417T080000
DTEND;TZID=America/Vancouver:20150417T170000
DTSTAMP:20260425T051003
CREATED:20150330T192202Z
LAST-MODIFIED:20150330T192202Z
UID:3083-1429257600-1429290000@central.sd61.bc.ca
SUMMARY:Pro-D - school not in session
DESCRIPTION:
URL:https://central.sd61.bc.ca/calendar-event/pro-d-school-not-in-session/
END:VEVENT
BEGIN:VEVENT
DTSTART;VALUE=DATE:20150416
DTEND;VALUE=DATE:20150417
DTSTAMP:20260425T051003
CREATED:20140522T173934Z
LAST-MODIFIED:20140522T173934Z
UID:2428-1429142400-1429228799@central.sd61.bc.ca
SUMMARY:Student Led Conferences
DESCRIPTION:
URL:https://central.sd61.bc.ca/calendar-event/student-led-conferences-4/
END:VEVENT
BEGIN:VEVENT
DTSTART;VALUE=DATE:20150415
DTEND;VALUE=DATE:20150416
DTSTAMP:20260425T051003
CREATED:20140522T173907Z
LAST-MODIFIED:20140522T173907Z
UID:2427-1429056000-1429142399@central.sd61.bc.ca
SUMMARY:Student Led Conferences
DESCRIPTION:
URL:https://central.sd61.bc.ca/calendar-event/student-led-conferences-3/
END:VEVENT
BEGIN:VEVENT
DTSTART;VALUE=DATE:20150414
DTEND;VALUE=DATE:20150415
DTSTAMP:20260425T051003
CREATED:20140522T173805Z
LAST-MODIFIED:20140522T173805Z
UID:2426-1428969600-1429055999@central.sd61.bc.ca
SUMMARY:PAC Meeting
DESCRIPTION:
URL:https://central.sd61.bc.ca/calendar-event/pac-meeting-9/
END:VEVENT
BEGIN:VEVENT
DTSTART;VALUE=DATE:20150410
DTEND;VALUE=DATE:20150411
DTSTAMP:20260425T051003
CREATED:20140522T173703Z
LAST-MODIFIED:20140522T173703Z
UID:2425-1428624000-1428710399@central.sd61.bc.ca
SUMMARY:CC Day
DESCRIPTION:
URL:https://central.sd61.bc.ca/calendar-event/cc-day-3/
END:VEVENT
BEGIN:VEVENT
DTSTART;VALUE=DATE:20150406
DTEND;VALUE=DATE:20150407
DTSTAMP:20260425T051003
CREATED:20140522T173629Z
LAST-MODIFIED:20140522T173629Z
UID:2424-1428278400-1428364799@central.sd61.bc.ca
SUMMARY:Easter Monday   (no school)
DESCRIPTION:
URL:https://central.sd61.bc.ca/calendar-event/easter-monday-no-school/
END:VEVENT
BEGIN:VEVENT
DTSTART;VALUE=DATE:20150403
DTEND;VALUE=DATE:20150404
DTSTAMP:20260425T051003
CREATED:20140522T173517Z
LAST-MODIFIED:20140522T173517Z
UID:2423-1428019200-1428105599@central.sd61.bc.ca
SUMMARY:Good Friday        (no school)
DESCRIPTION:
URL:https://central.sd61.bc.ca/calendar-event/good-friday-no-school/
END:VEVENT
BEGIN:VEVENT
DTSTART;VALUE=DATE:20150401
DTEND;VALUE=DATE:20150402
DTSTAMP:20260425T051003
CREATED:20140522T173336Z
LAST-MODIFIED:20140522T173336Z
UID:2422-1427846400-1427932799@central.sd61.bc.ca
SUMMARY:Rite of Spring Concert
DESCRIPTION:
URL:https://central.sd61.bc.ca/calendar-event/rite-of-spring-concert/
END:VEVENT
BEGIN:VEVENT
DTSTART;VALUE=DATE:20150323
DTEND;VALUE=DATE:20150324
DTSTAMP:20260425T051003
CREATED:20140522T174917Z
LAST-MODIFIED:20140522T174917Z
UID:2437-1427068800-1427155199@central.sd61.bc.ca
SUMMARY:School reopens after Spring Break
DESCRIPTION:
URL:https://central.sd61.bc.ca/calendar-event/school-reopens-after-spring-break-2/
END:VEVENT
BEGIN:VEVENT
DTSTART;VALUE=DATE:20150316
DTEND;VALUE=DATE:20150321
DTSTAMP:20260425T051003
CREATED:20140522T173150Z
LAST-MODIFIED:20140522T173150Z
UID:2420-1426464000-1426895999@central.sd61.bc.ca
SUMMARY:Spring Break
DESCRIPTION:
URL:https://central.sd61.bc.ca/calendar-event/spring-break-8/
END:VEVENT
BEGIN:VEVENT
DTSTART;VALUE=DATE:20150313
DTEND;VALUE=DATE:20150314
DTSTAMP:20260425T051003
CREATED:20140522T173110Z
LAST-MODIFIED:20140522T173110Z
UID:2419-1426204800-1426291199@central.sd61.bc.ca
SUMMARY:Spring Break
DESCRIPTION:
URL:https://central.sd61.bc.ca/calendar-event/spring-break-7/
END:VEVENT
BEGIN:VEVENT
DTSTART;VALUE=DATE:20150312
DTEND;VALUE=DATE:20150313
DTSTAMP:20260425T051003
CREATED:20140522T173038Z
LAST-MODIFIED:20140522T173038Z
UID:2418-1426118400-1426204799@central.sd61.bc.ca
SUMMARY:Spring Break
DESCRIPTION:
URL:https://central.sd61.bc.ca/calendar-event/spring-break-6/
END:VEVENT
END:VCALENDAR