BEGIN:VCALENDAR
VERSION:2.0
PRODID:-//Central Middle School - ECPv6.2.8.1//NONSGML v1.0//EN
CALSCALE:GREGORIAN
METHOD:PUBLISH
X-WR-CALNAME:Central Middle School
X-ORIGINAL-URL:https://central.sd61.bc.ca
X-WR-CALDESC:Events for Central Middle School
REFRESH-INTERVAL;VALUE=DURATION:PT1H
X-Robots-Tag:noindex
X-PUBLISHED-TTL:PT1H
BEGIN:VTIMEZONE
TZID:America/Vancouver
BEGIN:DAYLIGHT
TZOFFSETFROM:-0800
TZOFFSETTO:-0700
TZNAME:PDT
DTSTART:20140309T100000
END:DAYLIGHT
BEGIN:STANDARD
TZOFFSETFROM:-0700
TZOFFSETTO:-0800
TZNAME:PST
DTSTART:20141102T090000
END:STANDARD
BEGIN:DAYLIGHT
TZOFFSETFROM:-0800
TZOFFSETTO:-0700
TZNAME:PDT
DTSTART:20150308T100000
END:DAYLIGHT
BEGIN:STANDARD
TZOFFSETFROM:-0700
TZOFFSETTO:-0800
TZNAME:PST
DTSTART:20151101T090000
END:STANDARD
END:VTIMEZONE
BEGIN:VEVENT
DTSTART;VALUE=DATE:20150105
DTEND;VALUE=DATE:20150106
DTSTAMP:20260425T082218
CREATED:20140522T175218Z
LAST-MODIFIED:20140522T175218Z
UID:2438-1420416000-1420502399@central.sd61.bc.ca
SUMMARY:School reopens after Winter Break   Newsletter
DESCRIPTION:
URL:https://central.sd61.bc.ca/calendar-event/school-reopens-after-winter-break-newsletter/
END:VEVENT
BEGIN:VEVENT
DTSTART;VALUE=DATE:20150102
DTEND;VALUE=DATE:20150103
DTSTAMP:20260425T082218
CREATED:20140522T170059Z
LAST-MODIFIED:20140522T170059Z
UID:2397-1420156800-1420243199@central.sd61.bc.ca
SUMMARY:Winter Break
DESCRIPTION:
URL:https://central.sd61.bc.ca/calendar-event/winter-break-11/
END:VEVENT
BEGIN:VEVENT
DTSTART;VALUE=DATE:20150101
DTEND;VALUE=DATE:20150102
DTSTAMP:20260425T082218
CREATED:20140522T170034Z
LAST-MODIFIED:20140522T170034Z
UID:2396-1420070400-1420156799@central.sd61.bc.ca
SUMMARY:Winter Break
DESCRIPTION:
URL:https://central.sd61.bc.ca/calendar-event/winter-break-10/
END:VEVENT
BEGIN:VEVENT
DTSTART;VALUE=DATE:20141231
DTEND;VALUE=DATE:20150101
DTSTAMP:20260425T082218
CREATED:20140522T165829Z
LAST-MODIFIED:20140522T165829Z
UID:2395-1419984000-1420070399@central.sd61.bc.ca
SUMMARY:Winter Break
DESCRIPTION:
URL:https://central.sd61.bc.ca/calendar-event/winter-break-9/
END:VEVENT
BEGIN:VEVENT
DTSTART;VALUE=DATE:20141230
DTEND;VALUE=DATE:20141231
DTSTAMP:20260425T082218
CREATED:20140522T165805Z
LAST-MODIFIED:20140522T165805Z
UID:2394-1419897600-1419983999@central.sd61.bc.ca
SUMMARY:Winter Break
DESCRIPTION:
URL:https://central.sd61.bc.ca/calendar-event/winter-break-8/
END:VEVENT
BEGIN:VEVENT
DTSTART;VALUE=DATE:20141229
DTEND;VALUE=DATE:20141230
DTSTAMP:20260425T082218
CREATED:20140522T165740Z
LAST-MODIFIED:20140522T165740Z
UID:2393-1419811200-1419897599@central.sd61.bc.ca
SUMMARY:Winter Break
DESCRIPTION:
URL:https://central.sd61.bc.ca/calendar-event/winter-break-7/
END:VEVENT
BEGIN:VEVENT
DTSTART;VALUE=DATE:20141226
DTEND;VALUE=DATE:20141227
DTSTAMP:20260425T082218
CREATED:20140522T165711Z
LAST-MODIFIED:20140522T165711Z
UID:2392-1419552000-1419638399@central.sd61.bc.ca
SUMMARY:Winter Break
DESCRIPTION:
URL:https://central.sd61.bc.ca/calendar-event/winter-break-6/
END:VEVENT
BEGIN:VEVENT
DTSTART;VALUE=DATE:20141225
DTEND;VALUE=DATE:20141226
DTSTAMP:20260425T082218
CREATED:20140522T165626Z
LAST-MODIFIED:20140522T165626Z
UID:2391-1419465600-1419551999@central.sd61.bc.ca
SUMMARY:Winter Break
DESCRIPTION:
URL:https://central.sd61.bc.ca/calendar-event/winter-break-5/
END:VEVENT
BEGIN:VEVENT
DTSTART;VALUE=DATE:20141224
DTEND;VALUE=DATE:20141225
DTSTAMP:20260425T082218
CREATED:20140522T165601Z
LAST-MODIFIED:20140522T165601Z
UID:2390-1419379200-1419465599@central.sd61.bc.ca
SUMMARY:Winter Break
DESCRIPTION:
URL:https://central.sd61.bc.ca/calendar-event/winter-break-4/
END:VEVENT
BEGIN:VEVENT
DTSTART;VALUE=DATE:20141223
DTEND;VALUE=DATE:20141224
DTSTAMP:20260425T082218
CREATED:20140522T165538Z
LAST-MODIFIED:20140522T165538Z
UID:2389-1419292800-1419379199@central.sd61.bc.ca
SUMMARY:Winter Break
DESCRIPTION:
URL:https://central.sd61.bc.ca/calendar-event/winter-break-3/
END:VEVENT
BEGIN:VEVENT
DTSTART;VALUE=DATE:20141222
DTEND;VALUE=DATE:20141223
DTSTAMP:20260425T082218
CREATED:20140522T165512Z
LAST-MODIFIED:20140522T165512Z
UID:2388-1419206400-1419292799@central.sd61.bc.ca
SUMMARY:Winter Break
DESCRIPTION:
URL:https://central.sd61.bc.ca/calendar-event/winter-break-2/
END:VEVENT
BEGIN:VEVENT
DTSTART;TZID=America/Vancouver:20141219T080000
DTEND;TZID=America/Vancouver:20141219T170000
DTSTAMP:20260425T082218
CREATED:20140522T165443Z
LAST-MODIFIED:20140522T165936Z
UID:2387-1418976000-1419008400@central.sd61.bc.ca
SUMMARY:Last day of school before winter break Pancake Breakfast Reports Home
DESCRIPTION:
URL:https://central.sd61.bc.ca/calendar-event/last-day-of-school-before-winter-break-pancake-breakfast-report-home/
END:VEVENT
BEGIN:VEVENT
DTSTART;TZID=America/Vancouver:20141216T160000
DTEND;TZID=America/Vancouver:20141216T190000
DTSTAMP:20260425T082218
CREATED:20141128T230728Z
LAST-MODIFIED:20141128T230728Z
UID:2809-1418745600-1418756400@central.sd61.bc.ca
SUMMARY:Medieval Market
DESCRIPTION:
URL:https://central.sd61.bc.ca/calendar-event/medieval-market-2/
END:VEVENT
BEGIN:VEVENT
DTSTART;VALUE=DATE:20141210
DTEND;VALUE=DATE:20141211
DTSTAMP:20260425T082218
CREATED:20140522T165353Z
LAST-MODIFIED:20140522T165353Z
UID:2386-1418169600-1418255999@central.sd61.bc.ca
SUMMARY:Winter Night of Music
DESCRIPTION:
URL:https://central.sd61.bc.ca/calendar-event/winter-night-of-music/
END:VEVENT
BEGIN:VEVENT
DTSTART;VALUE=DATE:20141209
DTEND;VALUE=DATE:20141210
DTSTAMP:20260425T082218
CREATED:20140522T165322Z
LAST-MODIFIED:20140522T165323Z
UID:2385-1418083200-1418169599@central.sd61.bc.ca
SUMMARY:PAC Meeting
DESCRIPTION:
URL:https://central.sd61.bc.ca/calendar-event/pac-meeting-6/
END:VEVENT
BEGIN:VEVENT
DTSTART;VALUE=DATE:20141206
DTEND;VALUE=DATE:20141207
DTSTAMP:20260425T082218
CREATED:20140522T165255Z
LAST-MODIFIED:20140522T165255Z
UID:2384-1417824000-1417910399@central.sd61.bc.ca
SUMMARY:Holiday Craft Fair
DESCRIPTION:
URL:https://central.sd61.bc.ca/calendar-event/holiday-craft-fair-2/
END:VEVENT
BEGIN:VEVENT
DTSTART;VALUE=DATE:20141201
DTEND;VALUE=DATE:20141202
DTSTAMP:20260425T082218
CREATED:20140522T165224Z
LAST-MODIFIED:20140522T165224Z
UID:2383-1417392000-1417478399@central.sd61.bc.ca
SUMMARY:Newsletter
DESCRIPTION:
URL:https://central.sd61.bc.ca/calendar-event/newsletter-13/
END:VEVENT
BEGIN:VEVENT
DTSTART;VALUE=DATE:20141121
DTEND;VALUE=DATE:20141122
DTSTAMP:20260425T082218
CREATED:20140522T164033Z
LAST-MODIFIED:20140522T164137Z
UID:2378-1416528000-1416614399@central.sd61.bc.ca
SUMMARY:Pro-D
DESCRIPTION:
URL:https://central.sd61.bc.ca/calendar-event/remembrance-day-2/
END:VEVENT
BEGIN:VEVENT
DTSTART;VALUE=DATE:20141120
DTEND;VALUE=DATE:20141121
DTSTAMP:20260425T082218
CREATED:20140522T165044Z
LAST-MODIFIED:20140522T165045Z
UID:2382-1416441600-1416527999@central.sd61.bc.ca
SUMMARY:CC Day
DESCRIPTION:
URL:https://central.sd61.bc.ca/calendar-event/cc-day/
END:VEVENT
BEGIN:VEVENT
DTSTART;VALUE=DATE:20141118
DTEND;VALUE=DATE:20141119
DTSTAMP:20260425T082218
CREATED:20140522T164915Z
LAST-MODIFIED:20140522T164915Z
UID:2380-1416268800-1416355199@central.sd61.bc.ca
SUMMARY:PAC Meeting
DESCRIPTION:
URL:https://central.sd61.bc.ca/calendar-event/pac-meeting-5/
END:VEVENT
BEGIN:VEVENT
DTSTART;VALUE=DATE:20141111
DTEND;VALUE=DATE:20141112
DTSTAMP:20260425T082218
CREATED:20140522T165008Z
LAST-MODIFIED:20140522T165008Z
UID:2381-1415664000-1415750399@central.sd61.bc.ca
SUMMARY:Remembrance Day
DESCRIPTION:
URL:https://central.sd61.bc.ca/calendar-event/remembrance-day-3/
END:VEVENT
BEGIN:VEVENT
DTSTART;VALUE=DATE:20141110
DTEND;VALUE=DATE:20141111
DTSTAMP:20260425T082218
CREATED:20140522T163827Z
LAST-MODIFIED:20140522T163827Z
UID:2377-1415577600-1415663999@central.sd61.bc.ca
SUMMARY:Remembrance Day Assembly
DESCRIPTION:
URL:https://central.sd61.bc.ca/calendar-event/remembrance-day-assembly-2/
END:VEVENT
BEGIN:VEVENT
DTSTART;VALUE=DATE:20141103
DTEND;VALUE=DATE:20141104
DTSTAMP:20260425T082218
CREATED:20140522T162640Z
LAST-MODIFIED:20140522T162640Z
UID:2375-1414972800-1415059199@central.sd61.bc.ca
SUMMARY:Newsletter
DESCRIPTION:
URL:https://central.sd61.bc.ca/calendar-event/newsletter-9/
END:VEVENT
BEGIN:VEVENT
DTSTART;TZID=America/Vancouver:20141031T080000
DTEND;TZID=America/Vancouver:20141031T170000
DTSTAMP:20260425T082218
CREATED:20140521T225153Z
LAST-MODIFIED:20140521T225211Z
UID:2371-1414742400-1414774800@central.sd61.bc.ca
SUMMARY:Halloween Dance
DESCRIPTION:
URL:https://central.sd61.bc.ca/calendar-event/halloween-dance-2/
END:VEVENT
BEGIN:VEVENT
DTSTART;TZID=America/Vancouver:20141030T090000
DTEND;TZID=America/Vancouver:20141030T110000
DTSTAMP:20260425T082218
CREATED:20140521T224855Z
LAST-MODIFIED:20141017T173313Z
UID:2365-1414659600-1414666800@central.sd61.bc.ca
SUMMARY:Photo Retakes
DESCRIPTION:
URL:https://central.sd61.bc.ca/calendar-event/photo-retakes/
END:VEVENT
BEGIN:VEVENT
DTSTART;TZID=America/Vancouver:20141024T080000
DTEND;TZID=America/Vancouver:20141024T170000
DTSTAMP:20260425T082218
CREATED:20140521T225053Z
LAST-MODIFIED:20140521T225053Z
UID:2369-1414137600-1414170000@central.sd61.bc.ca
SUMMARY:Pro-D
DESCRIPTION:
URL:https://central.sd61.bc.ca/calendar-event/pro-d/
END:VEVENT
BEGIN:VEVENT
DTSTART;TZID=America/Vancouver:20141023T140000
DTEND;TZID=America/Vancouver:20141023T173000
DTSTAMP:20260425T082218
CREATED:20140521T225022Z
LAST-MODIFIED:20141021T163517Z
UID:2368-1414072800-1414085400@central.sd61.bc.ca
SUMMARY:Parent-Teacher Conferences - noon dismissal
DESCRIPTION:
URL:https://central.sd61.bc.ca/calendar-event/parent-teacher-conferences/
END:VEVENT
BEGIN:VEVENT
DTSTART;TZID=America/Vancouver:20141022T150000
DTEND;TZID=America/Vancouver:20141022T200000
DTSTAMP:20260425T082218
CREATED:20140521T224927Z
LAST-MODIFIED:20141021T163457Z
UID:2366-1413990000-1414008000@central.sd61.bc.ca
SUMMARY:Parent-Teacher Conferences - noon dismissal
DESCRIPTION:
URL:https://central.sd61.bc.ca/calendar-event/parent-teacher-conferences-early-dismissal/
END:VEVENT
BEGIN:VEVENT
DTSTART;TZID=America/Vancouver:20141022T080000
DTEND;TZID=America/Vancouver:20141022T170000
DTSTAMP:20260425T082218
CREATED:20141020T193756Z
LAST-MODIFIED:20141020T193756Z
UID:2664-1413964800-1413997200@central.sd61.bc.ca
SUMMARY:WE Day
DESCRIPTION:
URL:https://central.sd61.bc.ca/calendar-event/we-day-2/
END:VEVENT
BEGIN:VEVENT
DTSTART;TZID=America/Vancouver:20141014T190000
DTEND;TZID=America/Vancouver:20141014T210000
DTSTAMP:20260425T082218
CREATED:20140521T224831Z
LAST-MODIFIED:20141014T181350Z
UID:2364-1413313200-1413320400@central.sd61.bc.ca
SUMMARY:PAC Meeting
DESCRIPTION:
URL:https://central.sd61.bc.ca/calendar-event/pac-meeting-3/
END:VEVENT
END:VCALENDAR