BEGIN:VCALENDAR
VERSION:2.0
PRODID:-//Central Middle School - ECPv6.2.8.1//NONSGML v1.0//EN
CALSCALE:GREGORIAN
METHOD:PUBLISH
X-WR-CALNAME:Central Middle School
X-ORIGINAL-URL:https://central.sd61.bc.ca
X-WR-CALDESC:Events for Central Middle School
REFRESH-INTERVAL;VALUE=DURATION:PT1H
X-Robots-Tag:noindex
X-PUBLISHED-TTL:PT1H
BEGIN:VTIMEZONE
TZID:America/Vancouver
BEGIN:DAYLIGHT
TZOFFSETFROM:-0800
TZOFFSETTO:-0700
TZNAME:PDT
DTSTART:20160313T100000
END:DAYLIGHT
BEGIN:STANDARD
TZOFFSETFROM:-0700
TZOFFSETTO:-0800
TZNAME:PST
DTSTART:20161106T090000
END:STANDARD
END:VTIMEZONE
BEGIN:VEVENT
DTSTART;TZID=America/Vancouver:20160617T103000
DTEND;TZID=America/Vancouver:20160617T120000
DTSTAMP:20260421T185116
CREATED:20150703T202106Z
LAST-MODIFIED:20160608T173112Z
UID:3554-1466159400-1466164800@central.sd61.bc.ca
SUMMARY:Grade 8 Recognition Ceremony
DESCRIPTION:
URL:https://central.sd61.bc.ca/calendar-event/grade-8-recognition-ceremony/
END:VEVENT
BEGIN:VEVENT
DTSTART;VALUE=DATE:20160606
DTEND;VALUE=DATE:20160610
DTSTAMP:20260421T185116
CREATED:20150703T202033Z
LAST-MODIFIED:20150924T183647Z
UID:3553-1465171200-1465516799@central.sd61.bc.ca
SUMMARY:Musical
DESCRIPTION:
URL:https://central.sd61.bc.ca/calendar-event/musical/
END:VEVENT
BEGIN:VEVENT
DTSTART;TZID=America/Vancouver:20160602T163000
DTEND;TZID=America/Vancouver:20160602T190000
DTSTAMP:20260421T185116
CREATED:20160505T190017Z
LAST-MODIFIED:20160526T191931Z
UID:4449-1464885000-1464894000@central.sd61.bc.ca
SUMMARY:Spring Fair
DESCRIPTION:Come on out to the Central Spring Fair \nCentral Families\, \nPlanning and excitement continues to build leading up to our Annual Spring Fair –  Thursday June 2\, from 4 -7 pm. \nRaffle basket donations from the community are starting to come in\, but we still need more help. If you are able to donate cash to purchase basket items\, please send $$ to the school with your student or donate online at http://myevent.com/centralfair/ \nWatch for updates in the coming weeks! For further information\, have a donation picked up or to volunteer please contact. ann.whiteaker@shaw.ca \n 
URL:https://central.sd61.bc.ca/calendar-event/spring-fair-2/
END:VEVENT
BEGIN:VEVENT
DTSTART;TZID=America/Vancouver:20160601T190000
DTEND;TZID=America/Vancouver:20160601T203000
DTSTAMP:20260421T185116
CREATED:20150703T202011Z
LAST-MODIFIED:20160601T155103Z
UID:3552-1464807600-1464813000@central.sd61.bc.ca
SUMMARY:Year End Concert
DESCRIPTION:
URL:https://central.sd61.bc.ca/calendar-event/year-end-concert-2/
END:VEVENT
BEGIN:VEVENT
DTSTART;VALUE=DATE:20160601
DTEND;VALUE=DATE:20160602
DTSTAMP:20260421T185116
CREATED:20150703T201945Z
LAST-MODIFIED:20150924T183254Z
UID:3551-1464739200-1464825599@central.sd61.bc.ca
SUMMARY:Newsletter
DESCRIPTION:
URL:https://central.sd61.bc.ca/calendar-event/newsletter-25/
END:VEVENT
BEGIN:VEVENT
DTSTART;VALUE=DATE:20160527
DTEND;VALUE=DATE:20160528
DTSTAMP:20260421T185116
CREATED:20150703T201918Z
LAST-MODIFIED:20150924T183211Z
UID:3550-1464307200-1464393599@central.sd61.bc.ca
SUMMARY:Curriculum Completion Day
DESCRIPTION:
URL:https://central.sd61.bc.ca/calendar-event/curriculum-completion-day-7/
END:VEVENT
BEGIN:VEVENT
DTSTART;VALUE=DATE:20160523
DTEND;VALUE=DATE:20160524
DTSTAMP:20260421T185116
CREATED:20150703T201857Z
LAST-MODIFIED:20150924T183131Z
UID:3549-1463961600-1464047999@central.sd61.bc.ca
SUMMARY:Victoria Day (no school)
DESCRIPTION:
URL:https://central.sd61.bc.ca/calendar-event/victoria-day-no-school-2/
END:VEVENT
BEGIN:VEVENT
DTSTART;VALUE=DATE:20160520
DTEND;VALUE=DATE:20160521
DTSTAMP:20260421T185116
CREATED:20150703T201829Z
LAST-MODIFIED:20150924T183036Z
UID:3548-1463702400-1463788799@central.sd61.bc.ca
SUMMARY:Pro-D Day - No School for Students
DESCRIPTION:
URL:https://central.sd61.bc.ca/calendar-event/pro-d-day-6/
END:VEVENT
BEGIN:VEVENT
DTSTART;VALUE=DATE:20160519
DTEND;VALUE=DATE:20160520
DTSTAMP:20260421T185116
CREATED:20150703T201812Z
LAST-MODIFIED:20150924T182947Z
UID:3547-1463616000-1463702399@central.sd61.bc.ca
SUMMARY:District Transition Day
DESCRIPTION:
URL:https://central.sd61.bc.ca/calendar-event/district-transition-day/
END:VEVENT
BEGIN:VEVENT
DTSTART;TZID=America/Vancouver:20160510T190000
DTEND;TZID=America/Vancouver:20160510T210000
DTSTAMP:20260421T185116
CREATED:20150703T201751Z
LAST-MODIFIED:20150703T201751Z
UID:3546-1462906800-1462914000@central.sd61.bc.ca
SUMMARY:PAC Meeting
DESCRIPTION:
URL:https://central.sd61.bc.ca/calendar-event/pac-meeting-17/
END:VEVENT
BEGIN:VEVENT
DTSTART;VALUE=DATE:20160502
DTEND;VALUE=DATE:20160503
DTSTAMP:20260421T185116
CREATED:20150703T201726Z
LAST-MODIFIED:20150924T182849Z
UID:3545-1462147200-1462233599@central.sd61.bc.ca
SUMMARY:Newsletter
DESCRIPTION:
URL:https://central.sd61.bc.ca/calendar-event/newsletter-24/
END:VEVENT
BEGIN:VEVENT
DTSTART;TZID=America/Vancouver:20160427T080000
DTEND;TZID=America/Vancouver:20160429T170000
DTSTAMP:20260421T185116
CREATED:20150703T201706Z
LAST-MODIFIED:20150703T201706Z
UID:3544-1461744000-1461949200@central.sd61.bc.ca
SUMMARY:Band Trip
DESCRIPTION:
URL:https://central.sd61.bc.ca/calendar-event/band-trip/
END:VEVENT
BEGIN:VEVENT
DTSTART;TZID=America/Vancouver:20160421T080000
DTEND;TZID=America/Vancouver:20160421T200000
DTSTAMP:20260421T185116
CREATED:20160414T154455Z
LAST-MODIFIED:20160414T154810Z
UID:4364-1461225600-1461268800@central.sd61.bc.ca
SUMMARY:Student Led Conferences 3:00 - 5:00 and 6:00 - 8:00 (early dismissal - 11:54 a.m.)
DESCRIPTION:
URL:https://central.sd61.bc.ca/calendar-event/student-led-conferences-300-500-and-600-800-early-dismissal-1154-a-m/
END:VEVENT
BEGIN:VEVENT
DTSTART;VALUE=DATE:20160420
DTEND;VALUE=DATE:20160421
DTSTAMP:20260421T185116
CREATED:20150703T201639Z
LAST-MODIFIED:20160414T221806Z
UID:3543-1461110400-1461196799@central.sd61.bc.ca
SUMMARY:Student Led Conferences  2:00 to 5:30  (early dismissal - 11:50a.m.)
DESCRIPTION:
URL:https://central.sd61.bc.ca/calendar-event/student-led-conferences-early-dismissal-3/
END:VEVENT
BEGIN:VEVENT
DTSTART;VALUE=DATE:20160415
DTEND;VALUE=DATE:20160416
DTSTAMP:20260421T185116
CREATED:20150703T201607Z
LAST-MODIFIED:20150924T182651Z
UID:3542-1460678400-1460764799@central.sd61.bc.ca
SUMMARY:Curriculum Completion Day
DESCRIPTION:
URL:https://central.sd61.bc.ca/calendar-event/curriculum-completion-day-6/
END:VEVENT
BEGIN:VEVENT
DTSTART;TZID=America/Vancouver:20160412T190000
DTEND;TZID=America/Vancouver:20160412T210000
DTSTAMP:20260421T185116
CREATED:20150703T201549Z
LAST-MODIFIED:20150703T201549Z
UID:3541-1460487600-1460494800@central.sd61.bc.ca
SUMMARY:PAC Meeting
DESCRIPTION:
URL:https://central.sd61.bc.ca/calendar-event/pac-meeting-16/
END:VEVENT
BEGIN:VEVENT
DTSTART;TZID=America/Vancouver:20160406T190000
DTEND;TZID=America/Vancouver:20160406T210000
DTSTAMP:20260421T185116
CREATED:20150703T201525Z
LAST-MODIFIED:20150703T201525Z
UID:3540-1459969200-1459976400@central.sd61.bc.ca
SUMMARY:Rite of Spring Concert
DESCRIPTION:
URL:https://central.sd61.bc.ca/calendar-event/rite-of-spring-concert-2/
END:VEVENT
BEGIN:VEVENT
DTSTART;VALUE=DATE:20160404
DTEND;VALUE=DATE:20160405
DTSTAMP:20260421T185116
CREATED:20151120T172228Z
LAST-MODIFIED:20151120T172228Z
UID:3873-1459728000-1459814399@central.sd61.bc.ca
SUMMARY:Curriculum Implementation Day - no school for students
DESCRIPTION:
URL:https://central.sd61.bc.ca/calendar-event/curriculum-implementation-day-no-school-for-students/
END:VEVENT
BEGIN:VEVENT
DTSTART;VALUE=DATE:20160401
DTEND;VALUE=DATE:20160402
DTSTAMP:20260421T185116
CREATED:20150703T201456Z
LAST-MODIFIED:20150924T182613Z
UID:3539-1459468800-1459555199@central.sd61.bc.ca
SUMMARY:Newsletter
DESCRIPTION:
URL:https://central.sd61.bc.ca/calendar-event/newsletter-23/
END:VEVENT
BEGIN:VEVENT
DTSTART;VALUE=DATE:20160329
DTEND;VALUE=DATE:20160330
DTSTAMP:20260421T185116
CREATED:20150703T194124Z
LAST-MODIFIED:20150924T182502Z
UID:3538-1459209600-1459295999@central.sd61.bc.ca
SUMMARY:School Starts
DESCRIPTION:
URL:https://central.sd61.bc.ca/calendar-event/school-starts/
END:VEVENT
BEGIN:VEVENT
DTSTART;TZID=America/Vancouver:20160328T080000
DTEND;TZID=America/Vancouver:20160328T170000
DTSTAMP:20260421T185116
CREATED:20150703T194101Z
LAST-MODIFIED:20150703T194101Z
UID:3537-1459152000-1459184400@central.sd61.bc.ca
SUMMARY:Easter Monday
DESCRIPTION:
URL:https://central.sd61.bc.ca/calendar-event/easter-monday-2/
END:VEVENT
BEGIN:VEVENT
DTSTART;TZID=America/Vancouver:20160325T080000
DTEND;TZID=America/Vancouver:20160325T170000
DTSTAMP:20260421T185116
CREATED:20150703T194038Z
LAST-MODIFIED:20150703T194038Z
UID:3536-1458892800-1458925200@central.sd61.bc.ca
SUMMARY:Good Friday
DESCRIPTION:
URL:https://central.sd61.bc.ca/calendar-event/good-friday-2/
END:VEVENT
BEGIN:VEVENT
DTSTART;TZID=America/Vancouver:20160314T080000
DTEND;TZID=America/Vancouver:20160325T170000
DTSTAMP:20260421T185116
CREATED:20150703T194012Z
LAST-MODIFIED:20150703T194012Z
UID:3535-1457942400-1458925200@central.sd61.bc.ca
SUMMARY:Spring Break
DESCRIPTION:
URL:https://central.sd61.bc.ca/calendar-event/spring-break-9/
END:VEVENT
BEGIN:VEVENT
DTSTART;VALUE=DATE:20160311
DTEND;VALUE=DATE:20160312
DTSTAMP:20260421T185116
CREATED:20150703T193929Z
LAST-MODIFIED:20150924T182352Z
UID:3534-1457654400-1457740799@central.sd61.bc.ca
SUMMARY:Reports Home
DESCRIPTION:
URL:https://central.sd61.bc.ca/calendar-event/reports-home-2/
END:VEVENT
BEGIN:VEVENT
DTSTART;VALUE=DATE:20160311
DTEND;VALUE=DATE:20160312
DTSTAMP:20260421T185116
CREATED:20150703T193911Z
LAST-MODIFIED:20150924T182317Z
UID:3533-1457654400-1457740799@central.sd61.bc.ca
SUMMARY:Last day of school before Spring Break
DESCRIPTION:
URL:https://central.sd61.bc.ca/calendar-event/last-day-of-school-before-spring-break-2/
END:VEVENT
BEGIN:VEVENT
DTSTART;TZID=America/Vancouver:20160308T190000
DTEND;TZID=America/Vancouver:20160308T210000
DTSTAMP:20260421T185116
CREATED:20150703T193833Z
LAST-MODIFIED:20150703T193833Z
UID:3532-1457463600-1457470800@central.sd61.bc.ca
SUMMARY:PAC Meeting
DESCRIPTION:
URL:https://central.sd61.bc.ca/calendar-event/pac-meeting-15/
END:VEVENT
BEGIN:VEVENT
DTSTART;VALUE=DATE:20160301
DTEND;VALUE=DATE:20160302
DTSTAMP:20260421T185116
CREATED:20150703T193743Z
LAST-MODIFIED:20150924T182228Z
UID:3531-1456790400-1456876799@central.sd61.bc.ca
SUMMARY:Newsletter
DESCRIPTION:
URL:https://central.sd61.bc.ca/calendar-event/newsletter-22/
END:VEVENT
BEGIN:VEVENT
DTSTART;TZID=America/Vancouver:20160224T080000
DTEND;TZID=America/Vancouver:20160224T170000
DTSTAMP:20260421T185116
CREATED:20160106T080023Z
LAST-MODIFIED:20160106T222714Z
UID:4012-1456300800-1456333200@central.sd61.bc.ca
SUMMARY:Pink Shirt Day
DESCRIPTION:
URL:https://central.sd61.bc.ca/calendar-event/pink-shirt-day/
END:VEVENT
BEGIN:VEVENT
DTSTART;VALUE=DATE:20160219
DTEND;VALUE=DATE:20160220
DTSTAMP:20260421T185116
CREATED:20150703T193614Z
LAST-MODIFIED:20150924T182042Z
UID:3530-1455840000-1455926399@central.sd61.bc.ca
SUMMARY:Pro-D Day (Tri District) No School for Students
DESCRIPTION:
URL:https://central.sd61.bc.ca/calendar-event/pro-d-day-tri-district-3/
END:VEVENT
BEGIN:VEVENT
DTSTART;VALUE=DATE:20160217
DTEND;VALUE=DATE:20160219
DTSTAMP:20260421T185116
CREATED:20150703T193547Z
LAST-MODIFIED:20150924T181955Z
UID:3529-1455667200-1455839999@central.sd61.bc.ca
SUMMARY:Science Fair
DESCRIPTION:
URL:https://central.sd61.bc.ca/calendar-event/science-fair-4/
END:VEVENT
END:VCALENDAR