BEGIN:VCALENDAR
VERSION:2.0
PRODID:-//Central Middle School - ECPv6.2.8.1//NONSGML v1.0//EN
CALSCALE:GREGORIAN
METHOD:PUBLISH
X-WR-CALNAME:Central Middle School
X-ORIGINAL-URL:https://central.sd61.bc.ca
X-WR-CALDESC:Events for Central Middle School
REFRESH-INTERVAL;VALUE=DURATION:PT1H
X-Robots-Tag:noindex
X-PUBLISHED-TTL:PT1H
BEGIN:VTIMEZONE
TZID:America/Vancouver
BEGIN:DAYLIGHT
TZOFFSETFROM:-0800
TZOFFSETTO:-0700
TZNAME:PDT
DTSTART:20160313T100000
END:DAYLIGHT
BEGIN:STANDARD
TZOFFSETFROM:-0700
TZOFFSETTO:-0800
TZNAME:PST
DTSTART:20161106T090000
END:STANDARD
END:VTIMEZONE
BEGIN:VEVENT
DTSTART;VALUE=DATE:20161229
DTEND;VALUE=DATE:20161230
DTSTAMP:20260421T034605
CREATED:20160602T200330Z
LAST-MODIFIED:20160602T200330Z
UID:4648-1482969600-1483055999@central.sd61.bc.ca
SUMMARY:Winter Break
DESCRIPTION:
URL:https://central.sd61.bc.ca/calendar-event/winter-break-21/
END:VEVENT
BEGIN:VEVENT
DTSTART;VALUE=DATE:20161230
DTEND;VALUE=DATE:20161231
DTSTAMP:20260421T034605
CREATED:20160602T200357Z
LAST-MODIFIED:20160602T200357Z
UID:4649-1483056000-1483142399@central.sd61.bc.ca
SUMMARY:Winter Break
DESCRIPTION:
URL:https://central.sd61.bc.ca/calendar-event/winter-break-22/
END:VEVENT
END:VCALENDAR