BEGIN:VCALENDAR
VERSION:2.0
PRODID:-//Central Middle School - ECPv6.2.8.1//NONSGML v1.0//EN
CALSCALE:GREGORIAN
METHOD:PUBLISH
X-WR-CALNAME:Central Middle School
X-ORIGINAL-URL:https://central.sd61.bc.ca
X-WR-CALDESC:Events for Central Middle School
REFRESH-INTERVAL;VALUE=DURATION:PT1H
X-Robots-Tag:noindex
X-PUBLISHED-TTL:PT1H
BEGIN:VTIMEZONE
TZID:America/Vancouver
BEGIN:DAYLIGHT
TZOFFSETFROM:-0800
TZOFFSETTO:-0700
TZNAME:PDT
DTSTART:20160313T100000
END:DAYLIGHT
BEGIN:STANDARD
TZOFFSETFROM:-0700
TZOFFSETTO:-0800
TZNAME:PST
DTSTART:20161106T090000
END:STANDARD
END:VTIMEZONE
BEGIN:VEVENT
DTSTART;VALUE=DATE:20161206
DTEND;VALUE=DATE:20161207
DTSTAMP:20260421T050921
CREATED:20160602T195713Z
LAST-MODIFIED:20161102T211337Z
UID:4636-1480982400-1481068799@central.sd61.bc.ca
SUMMARY:PAC Meeting - 7pm
DESCRIPTION:
URL:https://central.sd61.bc.ca/calendar-event/pac-meeting-7pm-7/
END:VEVENT
BEGIN:VEVENT
DTSTART;TZID=America/Vancouver:20161206T160000
DTEND;TZID=America/Vancouver:20161206T190000
DTSTAMP:20260421T050921
CREATED:20161121T175429Z
LAST-MODIFIED:20161121T175429Z
UID:5147-1481040000-1481050800@central.sd61.bc.ca
SUMMARY:Medieval Market 4pm to 7pm in school Cafeteria
DESCRIPTION:
URL:https://central.sd61.bc.ca/calendar-event/medieval-market-4pm-to-7pm-in-school-cafeteria/
END:VEVENT
BEGIN:VEVENT
DTSTART;VALUE=DATE:20161207
DTEND;VALUE=DATE:20161208
DTSTAMP:20260421T050921
CREATED:20160602T195826Z
LAST-MODIFIED:20160602T195826Z
UID:4637-1481068800-1481155199@central.sd61.bc.ca
SUMMARY:Winter Concert - 7pm
DESCRIPTION:
URL:https://central.sd61.bc.ca/calendar-event/winter-concert-7pm/
END:VEVENT
END:VCALENDAR