BEGIN:VCALENDAR
VERSION:2.0
PRODID:-//Central Middle School - ECPv6.2.8.1//NONSGML v1.0//EN
CALSCALE:GREGORIAN
METHOD:PUBLISH
X-WR-CALNAME:Central Middle School
X-ORIGINAL-URL:https://central.sd61.bc.ca
X-WR-CALDESC:Events for Central Middle School
REFRESH-INTERVAL;VALUE=DURATION:PT1H
X-Robots-Tag:noindex
X-PUBLISHED-TTL:PT1H
BEGIN:VTIMEZONE
TZID:America/Vancouver
BEGIN:DAYLIGHT
TZOFFSETFROM:-0800
TZOFFSETTO:-0700
TZNAME:PDT
DTSTART:20150308T100000
END:DAYLIGHT
BEGIN:STANDARD
TZOFFSETFROM:-0700
TZOFFSETTO:-0800
TZNAME:PST
DTSTART:20151101T090000
END:STANDARD
END:VTIMEZONE
BEGIN:VEVENT
DTSTART;VALUE=DATE:20151021
DTEND;VALUE=DATE:20151022
DTSTAMP:20260423T155618
CREATED:20150703T181842Z
LAST-MODIFIED:20150924T175308Z
UID:3501-1445385600-1445471999@central.sd61.bc.ca
SUMMARY:Parent/Teacher Interviews (early dismissal - 11:50)
DESCRIPTION:
URL:https://central.sd61.bc.ca/calendar-event/parentteacher-interviews-early-dismissal-2/
END:VEVENT
BEGIN:VEVENT
DTSTART;VALUE=DATE:20151021
DTEND;VALUE=DATE:20151022
DTSTAMP:20260423T155618
CREATED:20151001T175022Z
LAST-MODIFIED:20151001T175022Z
UID:3701-1445385600-1445471999@central.sd61.bc.ca
SUMMARY:Scholastic Book Fair
DESCRIPTION:11:50 – 12:50;  3:00 – 5:00 and 6:00 – 8:00
URL:https://central.sd61.bc.ca/calendar-event/scholastic-book-fair/
END:VEVENT
BEGIN:VEVENT
DTSTART;VALUE=DATE:20151021
DTEND;VALUE=DATE:20151023
DTSTAMP:20260423T155618
CREATED:20151001T184053Z
LAST-MODIFIED:20151001T184053Z
UID:3706-1445385600-1445558399@central.sd61.bc.ca
SUMMARY:Scholastic Book Fair
DESCRIPTION:
URL:https://central.sd61.bc.ca/calendar-event/scholastic-book-fair-3/
END:VEVENT
BEGIN:VEVENT
DTSTART;VALUE=DATE:20151021
DTEND;VALUE=DATE:20151024
DTSTAMP:20260423T155618
CREATED:20150911T181934Z
LAST-MODIFIED:20150911T181934Z
UID:3610-1445385600-1445644799@central.sd61.bc.ca
SUMMARY:Camp Pringle
DESCRIPTION:
URL:https://central.sd61.bc.ca/calendar-event/camp-pringle-4/
END:VEVENT
BEGIN:VEVENT
DTSTART;VALUE=DATE:20151022
DTEND;VALUE=DATE:20151023
DTSTAMP:20260423T155618
CREATED:20150703T181824Z
LAST-MODIFIED:20150924T175141Z
UID:3500-1445472000-1445558399@central.sd61.bc.ca
SUMMARY:Parent/Teacher Interviews (early dismissal 11:54 am)
DESCRIPTION:
URL:https://central.sd61.bc.ca/calendar-event/parentteacher-interviews-early-dismissal/
END:VEVENT
BEGIN:VEVENT
DTSTART;VALUE=DATE:20151022
DTEND;VALUE=DATE:20151023
DTSTAMP:20260423T155618
CREATED:20150703T181901Z
LAST-MODIFIED:20150924T184513Z
UID:3502-1445472000-1445558399@central.sd61.bc.ca
SUMMARY:WE Day
DESCRIPTION:
URL:https://central.sd61.bc.ca/calendar-event/we-day-3/
END:VEVENT
BEGIN:VEVENT
DTSTART;VALUE=DATE:20151022
DTEND;VALUE=DATE:20151023
DTSTAMP:20260423T155618
CREATED:20151001T175234Z
LAST-MODIFIED:20151001T175234Z
UID:3702-1445472000-1445558399@central.sd61.bc.ca
SUMMARY:Scholastic Book Fair
DESCRIPTION:11:54 – 12:54 and 2:30 to 5:30
URL:https://central.sd61.bc.ca/calendar-event/scholastic-book-fair-2/
END:VEVENT
END:VCALENDAR