BEGIN:VCALENDAR
VERSION:2.0
PRODID:-//Central Middle School - ECPv6.2.8.1//NONSGML v1.0//EN
CALSCALE:GREGORIAN
METHOD:PUBLISH
X-ORIGINAL-URL:https://central.sd61.bc.ca
X-WR-CALDESC:Events for Central Middle School
REFRESH-INTERVAL;VALUE=DURATION:PT1H
X-Robots-Tag:noindex
X-PUBLISHED-TTL:PT1H
BEGIN:VTIMEZONE
TZID:America/Vancouver
BEGIN:DAYLIGHT
TZOFFSETFROM:-0800
TZOFFSETTO:-0700
TZNAME:PDT
DTSTART:20150308T100000
END:DAYLIGHT
BEGIN:STANDARD
TZOFFSETFROM:-0700
TZOFFSETTO:-0800
TZNAME:PST
DTSTART:20151101T090000
END:STANDARD
END:VTIMEZONE
BEGIN:VEVENT
DTSTART;TZID=America/Vancouver:20150924T180000
DTEND;TZID=America/Vancouver:20150924T190000
DTSTAMP:20260423T234630
CREATED:20150914T180157Z
LAST-MODIFIED:20150921T211253Z
UID:3629-1443117600-1443121200@central.sd61.bc.ca
SUMMARY:Welcome Back Meet the Teacher Night - Pizza and Refreshments
DESCRIPTION:Come join us from 6:00 – 7:00 pm for pizza and refreshments. A great opportunity to meet and welcome new and returning families to our Central Middle School community. Avoid the dinner rush by eating with us starting at 6;00pm and then head to your child’s classroom at 6:30pm for a quick visit with the teacher.  Your child will then lead you on a tour of the school.  Pizza will be available for a suggested donation of $2.50 per slice.
URL:https://central.sd61.bc.ca/calendar-event/welcome-back-bbq-meet-the-teacher-night/
END:VEVENT
END:VCALENDAR