BEGIN:VCALENDAR
VERSION:2.0
PRODID:-//Central Middle School - ECPv6.2.8.1//NONSGML v1.0//EN
CALSCALE:GREGORIAN
METHOD:PUBLISH
X-ORIGINAL-URL:https://central.sd61.bc.ca
X-WR-CALDESC:Events for Central Middle School
REFRESH-INTERVAL;VALUE=DURATION:PT1H
X-Robots-Tag:noindex
X-PUBLISHED-TTL:PT1H
BEGIN:VTIMEZONE
TZID:America/Vancouver
BEGIN:DAYLIGHT
TZOFFSETFROM:-0800
TZOFFSETTO:-0700
TZNAME:PDT
DTSTART:20150308T100000
END:DAYLIGHT
BEGIN:STANDARD
TZOFFSETFROM:-0700
TZOFFSETTO:-0800
TZNAME:PST
DTSTART:20151101T090000
END:STANDARD
END:VTIMEZONE
BEGIN:VEVENT
DTSTART;VALUE=DATE:20150209
DTEND;VALUE=DATE:20150210
DTSTAMP:20260425T170246
CREATED:20140522T171044Z
LAST-MODIFIED:20140522T172223Z
UID:2405-1423440000-1423526399@central.sd61.bc.ca
SUMMARY:BC Family Day           (no school)
DESCRIPTION:
URL:https://central.sd61.bc.ca/calendar-event/bc-family-day-no-school-2/
END:VEVENT
BEGIN:VEVENT
DTSTART;VALUE=DATE:20150210
DTEND;VALUE=DATE:20150211
DTSTAMP:20260425T170246
CREATED:20140522T171112Z
LAST-MODIFIED:20140522T171112Z
UID:2406-1423526400-1423612799@central.sd61.bc.ca
SUMMARY:PAC Meeting
DESCRIPTION:
URL:https://central.sd61.bc.ca/calendar-event/pac-meeting-8/
END:VEVENT
END:VCALENDAR